BEGIN:VCALENDAR
VERSION:2.0
PRODID:-//Jellybean Creative Solutions - ECPv6.15.20//NONSGML v1.0//EN
CALSCALE:GREGORIAN
METHOD:PUBLISH
X-ORIGINAL-URL:https://www.jellybeancreative.co.uk
X-WR-CALDESC:Events for Jellybean Creative Solutions
REFRESH-INTERVAL;VALUE=DURATION:PT1H
X-Robots-Tag:noindex
X-PUBLISHED-TTL:PT1H
BEGIN:VTIMEZONE
TZID:Europe/London
BEGIN:DAYLIGHT
TZOFFSETFROM:+0000
TZOFFSETTO:+0100
TZNAME:BST
DTSTART:20240331T010000
END:DAYLIGHT
BEGIN:STANDARD
TZOFFSETFROM:+0100
TZOFFSETTO:+0000
TZNAME:GMT
DTSTART:20241027T010000
END:STANDARD
BEGIN:DAYLIGHT
TZOFFSETFROM:+0000
TZOFFSETTO:+0100
TZNAME:BST
DTSTART:20250330T010000
END:DAYLIGHT
BEGIN:STANDARD
TZOFFSETFROM:+0100
TZOFFSETTO:+0000
TZNAME:GMT
DTSTART:20251026T010000
END:STANDARD
BEGIN:DAYLIGHT
TZOFFSETFROM:+0000
TZOFFSETTO:+0100
TZNAME:BST
DTSTART:20260329T010000
END:DAYLIGHT
BEGIN:STANDARD
TZOFFSETFROM:+0100
TZOFFSETTO:+0000
TZNAME:GMT
DTSTART:20261025T010000
END:STANDARD
END:VTIMEZONE
BEGIN:VEVENT
DTSTART;TZID=Europe/London:20250408T093000
DTEND;TZID=Europe/London:20250408T140000
DTSTAMP:20260420T071434
CREATED:20250227T130153Z
LAST-MODIFIED:20250227T130153Z
UID:28548-1744104600-1744120800@www.jellybeancreative.co.uk
SUMMARY:ACS Conference 2025
DESCRIPTION:
URL:https://www.jellybeancreative.co.uk/event/acs-conference-2025/
LOCATION:the Vox\, Birmingham\, United Kingdom
CATEGORIES:Exhibitions and Conferences
END:VEVENT
BEGIN:VEVENT
DTSTART;TZID=Europe/London:20250408T183000
DTEND;TZID=Europe/London:20250408T233000
DTSTAMP:20260420T071434
CREATED:20250227T130304Z
LAST-MODIFIED:20250227T130304Z
UID:28550-1744137000-1744155000@www.jellybeancreative.co.uk
SUMMARY:ACS 30th Anniversary Dinner
DESCRIPTION:
URL:https://www.jellybeancreative.co.uk/event/acs-30th-anniversary-dinner/
LOCATION:the Vox\, Birmingham\, United Kingdom
CATEGORIES:Awards / Dinners
END:VEVENT
BEGIN:VEVENT
DTSTART;VALUE=DATE:20250410
DTEND;VALUE=DATE:20250411
DTSTAMP:20260420T071434
CREATED:20241114T122431Z
LAST-MODIFIED:20241114T122455Z
UID:27861-1744243200-1744329599@www.jellybeancreative.co.uk
SUMMARY:Grocery Aid - Morrissons Big Night Out
DESCRIPTION:
URL:https://www.jellybeancreative.co.uk/event/grocery-aid-morrissons-big-night-out/
LOCATION:Yorkshire Event Centre\, Harrogate\, United Kingdom
CATEGORIES:General Event
END:VEVENT
BEGIN:VEVENT
DTSTART;VALUE=DATE:20250411
DTEND;VALUE=DATE:20250413
DTSTAMP:20260420T071434
CREATED:20250328T154020Z
LAST-MODIFIED:20250328T154020Z
UID:28731-1744329600-1744502399@www.jellybeancreative.co.uk
SUMMARY:International Franchise Show
DESCRIPTION:
URL:https://www.jellybeancreative.co.uk/event/international-franchise-show/
LOCATION:ExCel\, London\, United Kingdom
CATEGORIES:Exhibitions and Conferences
END:VEVENT
BEGIN:VEVENT
DTSTART;VALUE=DATE:20250412
DTEND;VALUE=DATE:20250413
DTSTAMP:20260420T071434
CREATED:20250313T155410Z
LAST-MODIFIED:20250313T155410Z
UID:28660-1744416000-1744502399@www.jellybeancreative.co.uk
SUMMARY:Bristol Vegan Fayre 25
DESCRIPTION:
URL:https://www.jellybeancreative.co.uk/event/bristol-vegan-fayre-25/
LOCATION:Document\, St. Jude's\, Bristol\, United Kingdom
CATEGORIES:General Event
END:VEVENT
BEGIN:VEVENT
DTSTART;VALUE=DATE:20250414
DTEND;VALUE=DATE:20250417
DTSTAMP:20260420T071434
CREATED:20241114T091819Z
LAST-MODIFIED:20241114T091819Z
UID:27838-1744588800-1744847999@www.jellybeancreative.co.uk
SUMMARY:TUCO competitions
DESCRIPTION:
URL:https://www.jellybeancreative.co.uk/event/tuco-competitions/
LOCATION:University of Warwick
CATEGORIES:Competition
END:VEVENT
BEGIN:VEVENT
DTSTART;VALUE=DATE:20250422
DTEND;VALUE=DATE:20250423
DTSTAMP:20260420T071434
CREATED:20250328T155540Z
LAST-MODIFIED:20250328T155540Z
UID:28740-1745280000-1745366399@www.jellybeancreative.co.uk
SUMMARY:National Jellybean Day!
DESCRIPTION:
URL:https://www.jellybeancreative.co.uk/event/national-jellybean-day/
CATEGORIES:National Day / Week
END:VEVENT
BEGIN:VEVENT
DTSTART;VALUE=DATE:20250422
DTEND;VALUE=DATE:20250429
DTSTAMP:20260420T071434
CREATED:20250328T155740Z
LAST-MODIFIED:20250328T155740Z
UID:28742-1745280000-1745884799@www.jellybeancreative.co.uk
SUMMARY:Allergy Awareness Week 2025
DESCRIPTION:
URL:https://www.jellybeancreative.co.uk/event/allergy-awareness-week-2025/
END:VEVENT
BEGIN:VEVENT
DTSTART;TZID=Europe/London:20250428T170000
DTEND;TZID=Europe/London:20250428T220000
DTSTAMP:20260420T071434
CREATED:20250227T120745Z
LAST-MODIFIED:20250227T120745Z
UID:28538-1745859600-1745877600@www.jellybeancreative.co.uk
SUMMARY:Arena Savoy Lecture: Educate\, Engage\, Inspire
DESCRIPTION:
URL:https://www.jellybeancreative.co.uk/event/arena-savoy-lecture-educate-engage-inspire/
LOCATION:The Savoy\, London\, United Kingdom
CATEGORIES:Exhibitions and Conferences
END:VEVENT
BEGIN:VEVENT
DTSTART;TZID=Europe/London:20250429T100000
DTEND;TZID=Europe/London:20250429T113000
DTSTAMP:20260420T071434
CREATED:20250220T150651Z
LAST-MODIFIED:20250220T150651Z
UID:28455-1745920800-1745926200@www.jellybeancreative.co.uk
SUMMARY:The Caterer Revenue Management Summit
DESCRIPTION:
URL:https://www.jellybeancreative.co.uk/event/the-caterer-revenue-management-summit/
LOCATION:Webinar
CATEGORIES:Exhibitions and Conferences
END:VEVENT
BEGIN:VEVENT
DTSTART;VALUE=DATE:20250501
DTEND;VALUE=DATE:20250502
DTSTAMP:20260420T071434
CREATED:20241114T122554Z
LAST-MODIFIED:20241114T122554Z
UID:27863-1746057600-1746143999@www.jellybeancreative.co.uk
SUMMARY:Grocery Aid - Co-op Windermere Row
DESCRIPTION:
URL:https://www.jellybeancreative.co.uk/event/grocery-aid-co-op-windermere-row/
LOCATION:Lake Windermere\, Lake District\, United Kingdom
CATEGORIES:General Event
END:VEVENT
BEGIN:VEVENT
DTSTART;TZID=Europe/London:20250501T090000
DTEND;TZID=Europe/London:20250501T150000
DTSTAMP:20260420T071434
CREATED:20250227T130416Z
LAST-MODIFIED:20250227T130416Z
UID:28552-1746090000-1746111600@www.jellybeancreative.co.uk
SUMMARY:ACS Raj Aggarwal Golf day
DESCRIPTION:
URL:https://www.jellybeancreative.co.uk/event/acs-raj-aggarwal-golf-day/
CATEGORIES:General Event
END:VEVENT
BEGIN:VEVENT
DTSTART;VALUE=DATE:20250508
DTEND;VALUE=DATE:20250509
DTSTAMP:20260420T071434
CREATED:20241114T122636Z
LAST-MODIFIED:20241114T122636Z
UID:27865-1746662400-1746748799@www.jellybeancreative.co.uk
SUMMARY:Grocery Aid Day
DESCRIPTION:
URL:https://www.jellybeancreative.co.uk/event/grocery-aid-day/
CATEGORIES:National Day / Week
END:VEVENT
BEGIN:VEVENT
DTSTART;VALUE=DATE:20250508
DTEND;VALUE=DATE:20250509
DTSTAMP:20260420T071434
CREATED:20250220T151707Z
LAST-MODIFIED:20250220T151707Z
UID:28464-1746662400-1746748799@www.jellybeancreative.co.uk
SUMMARY:Foodservice Football Charity Match
DESCRIPTION:
URL:https://www.jellybeancreative.co.uk/event/foodservice-football-charity-match/
LOCATION:Cray Wanderers FC\, Chislehurst
CATEGORIES:General Event
END:VEVENT
BEGIN:VEVENT
DTSTART;TZID=Europe/London:20250508T083000
DTEND;TZID=Europe/London:20250508T123000
DTSTAMP:20260420T071434
CREATED:20250228T110851Z
LAST-MODIFIED:20250228T110851Z
UID:28568-1746693000-1746707400@www.jellybeancreative.co.uk
SUMMARY:Retail Week: Digital Summit
DESCRIPTION:
URL:https://www.jellybeancreative.co.uk/event/retail-week-digital-summit/
LOCATION:The Orchard\, London\, United Kingdom
CATEGORIES:Exhibitions and Conferences
END:VEVENT
BEGIN:VEVENT
DTSTART;VALUE=DATE:20250510
DTEND;VALUE=DATE:20250513
DTSTAMP:20260420T071434
CREATED:20250228T154620Z
LAST-MODIFIED:20250228T154620Z
UID:28586-1746835200-1747094399@www.jellybeancreative.co.uk
SUMMARY:Springboard Three Peaks Challenge
DESCRIPTION:
URL:https://www.jellybeancreative.co.uk/event/springboard-three-peaks-challenge/
CATEGORIES:General Event
END:VEVENT
BEGIN:VEVENT
DTSTART;VALUE=DATE:20250512
DTEND;VALUE=DATE:20250514
DTSTAMP:20260420T071434
CREATED:20250328T154238Z
LAST-MODIFIED:20250328T154238Z
UID:28733-1747008000-1747180799@www.jellybeancreative.co.uk
SUMMARY:Natural & Organic Products Expo
DESCRIPTION:
URL:https://www.jellybeancreative.co.uk/event/natural-organic-products-expo/
LOCATION:ExCel\, London\, United Kingdom
CATEGORIES:Exhibitions and Conferences
END:VEVENT
BEGIN:VEVENT
DTSTART;VALUE=DATE:20250513
DTEND;VALUE=DATE:20250514
DTSTAMP:20260420T071434
CREATED:20250227T124043Z
LAST-MODIFIED:20250227T124043Z
UID:28540-1747094400-1747180799@www.jellybeancreative.co.uk
SUMMARY:BFFF Health & Safety and Technical Conference
DESCRIPTION:
URL:https://www.jellybeancreative.co.uk/event/bfff-health-safety-and-technical-conference/
LOCATION:British Motor Museum\, Warwick\, United Kingdom
CATEGORIES:Exhibitions and Conferences
END:VEVENT
BEGIN:VEVENT
DTSTART;VALUE=DATE:20250513
DTEND;VALUE=DATE:20250515
DTSTAMP:20260420T071434
CREATED:20250228T105021Z
LAST-MODIFIED:20250228T105021Z
UID:28558-1747094400-1747267199@www.jellybeancreative.co.uk
SUMMARY:The Grocer - Rethinking Materials
DESCRIPTION:
URL:https://www.jellybeancreative.co.uk/event/the-grocer-rethinking-materials/
LOCATION:Hilton London Bankside\, London
CATEGORIES:Exhibitions and Conferences
END:VEVENT
BEGIN:VEVENT
DTSTART;VALUE=DATE:20250514
DTEND;VALUE=DATE:20250517
DTSTAMP:20260420T071434
CREATED:20250220T151936Z
LAST-MODIFIED:20250220T151936Z
UID:28467-1747180800-1747439999@www.jellybeancreative.co.uk
SUMMARY:HEFMA Leadership Forum
DESCRIPTION:
URL:https://www.jellybeancreative.co.uk/event/hefma-leadership-forum/
LOCATION:Telford International Centre\, Telford\, United Kingdom
CATEGORIES:Exhibitions and Conferences
END:VEVENT
BEGIN:VEVENT
DTSTART;VALUE=DATE:20250515
DTEND;VALUE=DATE:20250516
DTSTAMP:20260420T071434
CREATED:20241114T122815Z
LAST-MODIFIED:20241114T122815Z
UID:27867-1747267200-1747353599@www.jellybeancreative.co.uk
SUMMARY:Waitrose & Partners Garden Party
DESCRIPTION:
URL:https://www.jellybeancreative.co.uk/event/waitrose-partners-garden-party/
LOCATION:Henley-on-Thames\, United Kingdom
CATEGORIES:General Event
END:VEVENT
BEGIN:VEVENT
DTSTART;VALUE=DATE:20250515
DTEND;VALUE=DATE:20250516
DTSTAMP:20260420T071434
CREATED:20250228T153352Z
LAST-MODIFIED:20250228T153352Z
UID:28576-1747267200-1747353599@www.jellybeancreative.co.uk
SUMMARY:Supplier Innovation Live!
DESCRIPTION:
URL:https://www.jellybeancreative.co.uk/event/supplier-innovation-live/
LOCATION:Middleby Innovation Kitchen\, Wigan\, United Kingdom
CATEGORIES:Exhibitions and Conferences
END:VEVENT
BEGIN:VEVENT
DTSTART;VALUE=DATE:20250515
DTEND;VALUE=DATE:20250519
DTSTAMP:20260420T071434
CREATED:20250328T153752Z
LAST-MODIFIED:20250328T153752Z
UID:28728-1747267200-1747612799@www.jellybeancreative.co.uk
SUMMARY:London Coffee Festival
DESCRIPTION:
URL:https://www.jellybeancreative.co.uk/event/london-coffee-festival/
LOCATION:The Truman Brewery\, London\, United Kingdom
END:VEVENT
BEGIN:VEVENT
DTSTART;TZID=Europe/London:20250515T090000
DTEND;TZID=Europe/London:20250515T170000
DTSTAMP:20260420T071434
CREATED:20250220T150029Z
LAST-MODIFIED:20250220T150029Z
UID:28445-1747299600-1747328400@www.jellybeancreative.co.uk
SUMMARY:The People Summit and Best Places to Work in Hospitality
DESCRIPTION:
URL:https://www.jellybeancreative.co.uk/event/the-people-summit-and-best-places-to-work-in-hospitality/
LOCATION:Events@No.6\, London\, United Kingdom
CATEGORIES:Exhibitions and Conferences
END:VEVENT
BEGIN:VEVENT
DTSTART;VALUE=DATE:20250522
DTEND;VALUE=DATE:20250523
DTSTAMP:20260420T071434
CREATED:20250228T105927Z
LAST-MODIFIED:20250228T105927Z
UID:28562-1747872000-1747958399@www.jellybeancreative.co.uk
SUMMARY:Hostech 2025
DESCRIPTION:
URL:https://www.jellybeancreative.co.uk/event/hostech-2025/
LOCATION:Ham Yard Hotel\, London\, United Kingdom
CATEGORIES:Exhibitions and Conferences
END:VEVENT
BEGIN:VEVENT
DTSTART;VALUE=DATE:20250528
DTEND;VALUE=DATE:20250530
DTSTAMP:20260420T071434
CREATED:20250521T143911Z
LAST-MODIFIED:20250521T143911Z
UID:28881-1748390400-1748563199@www.jellybeancreative.co.uk
SUMMARY:British Culinary Championships
DESCRIPTION:
URL:https://www.jellybeancreative.co.uk/event/british-culinary-championships/
LOCATION:Central Bedfordshire College
CATEGORIES:Competition
END:VEVENT
BEGIN:VEVENT
DTSTART;TZID=Europe/London:20250528T183000
DTEND;TZID=Europe/London:20250528T230000
DTSTAMP:20260420T071434
CREATED:20250228T153937Z
LAST-MODIFIED:20250228T153951Z
UID:28578-1748457000-1748473200@www.jellybeancreative.co.uk
SUMMARY:HA - Bike to Care Chefs' Dinner
DESCRIPTION:
URL:https://www.jellybeancreative.co.uk/event/bike-to-care-chefs-dinner/
LOCATION:Nobu Hotel\, London
CATEGORIES:General Event
END:VEVENT
BEGIN:VEVENT
DTSTART;VALUE=DATE:20250529
DTEND;VALUE=DATE:20250601
DTSTAMP:20260420T071434
CREATED:20250313T154219Z
LAST-MODIFIED:20250313T154219Z
UID:28658-1748476800-1748735999@www.jellybeancreative.co.uk
SUMMARY:Royal Bath & West Show
DESCRIPTION:
URL:https://www.jellybeancreative.co.uk/event/royal-bath-west-show/
LOCATION:Bath & West Showground\, United Kingdom
CATEGORIES:General Event
END:VEVENT
BEGIN:VEVENT
DTSTART;TZID=Europe/London:20250530T080000
DTEND;TZID=Europe/London:20250530T170000
DTSTAMP:20260420T071434
CREATED:20250530T100544Z
LAST-MODIFIED:20250530T100544Z
UID:28942-1748592000-1748624400@www.jellybeancreative.co.uk
SUMMARY:Jellybean's 38th Birthday!
DESCRIPTION:
URL:https://www.jellybeancreative.co.uk/event/jellybeans-38th-birthday/
END:VEVENT
BEGIN:VEVENT
DTSTART;VALUE=DATE:20250601
DTEND;VALUE=DATE:20250602
DTSTAMP:20260420T071434
CREATED:20250228T154111Z
LAST-MODIFIED:20250228T154111Z
UID:28581-1748736000-1748822399@www.jellybeancreative.co.uk
SUMMARY:HA South West Polo Day
DESCRIPTION:
URL:https://www.jellybeancreative.co.uk/event/ha-south-west-polo-day-2/
LOCATION:Beaufort Polo Club\, Gloucestershire\, United Kingdom
CATEGORIES:General Event
END:VEVENT
END:VCALENDAR