BEGIN:VCALENDAR
VERSION:2.0
PRODID:-//Jellybean Creative Solutions - ECPv6.15.20//NONSGML v1.0//EN
CALSCALE:GREGORIAN
METHOD:PUBLISH
X-ORIGINAL-URL:https://www.jellybeancreative.co.uk
X-WR-CALDESC:Events for Jellybean Creative Solutions
REFRESH-INTERVAL;VALUE=DURATION:PT1H
X-Robots-Tag:noindex
X-PUBLISHED-TTL:PT1H
BEGIN:VTIMEZONE
TZID:Europe/London
BEGIN:DAYLIGHT
TZOFFSETFROM:+0000
TZOFFSETTO:+0100
TZNAME:BST
DTSTART:20250330T010000
END:DAYLIGHT
BEGIN:STANDARD
TZOFFSETFROM:+0100
TZOFFSETTO:+0000
TZNAME:GMT
DTSTART:20251026T010000
END:STANDARD
BEGIN:DAYLIGHT
TZOFFSETFROM:+0000
TZOFFSETTO:+0100
TZNAME:BST
DTSTART:20260329T010000
END:DAYLIGHT
BEGIN:STANDARD
TZOFFSETFROM:+0100
TZOFFSETTO:+0000
TZNAME:GMT
DTSTART:20261025T010000
END:STANDARD
BEGIN:DAYLIGHT
TZOFFSETFROM:+0000
TZOFFSETTO:+0100
TZNAME:BST
DTSTART:20270328T010000
END:DAYLIGHT
BEGIN:STANDARD
TZOFFSETFROM:+0100
TZOFFSETTO:+0000
TZNAME:GMT
DTSTART:20271031T010000
END:STANDARD
END:VTIMEZONE
BEGIN:VEVENT
DTSTART;VALUE=DATE:20260302
DTEND;VALUE=DATE:20260309
DTSTAMP:20260421T071540
CREATED:20251028T135108Z
LAST-MODIFIED:20251028T135108Z
UID:29911-1772409600-1773014399@www.jellybeancreative.co.uk
SUMMARY:National Butcher's Week
DESCRIPTION:
URL:https://www.jellybeancreative.co.uk/event/national-butchers-week/
CATEGORIES:National Day / Week
END:VEVENT
BEGIN:VEVENT
DTSTART;VALUE=DATE:20260303
DTEND;VALUE=DATE:20260304
DTSTAMP:20260421T071540
CREATED:20251028T143128Z
LAST-MODIFIED:20251028T143128Z
UID:29964-1772496000-1772582399@www.jellybeancreative.co.uk
SUMMARY:Contract Catering Awards
DESCRIPTION:
URL:https://www.jellybeancreative.co.uk/event/contract-catering-awards/
CATEGORIES:Awards / Dinners
END:VEVENT
BEGIN:VEVENT
DTSTART;VALUE=DATE:20260304
DTEND;VALUE=DATE:20260305
DTSTAMP:20260421T071540
CREATED:20251028T140133Z
LAST-MODIFIED:20251028T140133Z
UID:29930-1772582400-1772668799@www.jellybeancreative.co.uk
SUMMARY:Holi
DESCRIPTION:
URL:https://www.jellybeancreative.co.uk/event/holi/
CATEGORIES:National Day / Week
END:VEVENT
BEGIN:VEVENT
DTSTART;TZID=Europe/London:20260304T080000
DTEND;TZID=Europe/London:20260305T170000
DTSTAMP:20260421T071540
CREATED:20251028T124026Z
LAST-MODIFIED:20251028T124026Z
UID:29863-1772611200-1772730000@www.jellybeancreative.co.uk
SUMMARY:British Frozen Food Business Conference 2026
DESCRIPTION:
URL:https://www.jellybeancreative.co.uk/event/british-frozen-food-business-conference-2026/
CATEGORIES:Exhibitions and Conferences
END:VEVENT
BEGIN:VEVENT
DTSTART;VALUE=DATE:20260305
DTEND;VALUE=DATE:20260306
DTSTAMP:20260421T071540
CREATED:20251028T134130Z
LAST-MODIFIED:20251028T134130Z
UID:29890-1772668800-1772755199@www.jellybeancreative.co.uk
SUMMARY:FPA Awards 2026
DESCRIPTION:
URL:https://www.jellybeancreative.co.uk/event/fpa-awards-2026/
CATEGORIES:Awards / Dinners
END:VEVENT
BEGIN:VEVENT
DTSTART;VALUE=DATE:20260308
DTEND;VALUE=DATE:20260309
DTSTAMP:20260421T071540
CREATED:20251028T134345Z
LAST-MODIFIED:20251028T134345Z
UID:29896-1772928000-1773014399@www.jellybeancreative.co.uk
SUMMARY:International Women's Day
DESCRIPTION:
URL:https://www.jellybeancreative.co.uk/event/international-womens-day/
CATEGORIES:National Day / Week
END:VEVENT
BEGIN:VEVENT
DTSTART;VALUE=DATE:20260310
DTEND;VALUE=DATE:20260312
DTSTAMP:20260421T071540
CREATED:20251028T135257Z
LAST-MODIFIED:20251028T135257Z
UID:29915-1773100800-1773273599@www.jellybeancreative.co.uk
SUMMARY:Northern Restaurant & Bar
DESCRIPTION:
URL:https://www.jellybeancreative.co.uk/event/northern-restaurant-bar/
LOCATION:Manchester Central\, Manchester\, United Kingdom
CATEGORIES:Exhibitions and Conferences
END:VEVENT
BEGIN:VEVENT
DTSTART;TZID=Europe/London:20260310T180000
DTEND;TZID=Europe/London:20260310T223000
DTSTAMP:20260421T071540
CREATED:20251028T125945Z
LAST-MODIFIED:20251028T125945Z
UID:29874-1773165600-1773181800@www.jellybeancreative.co.uk
SUMMARY:UK Hospitality Networking Dinner
DESCRIPTION:
URL:https://www.jellybeancreative.co.uk/event/uk-hospitality-networking-dinner/
CATEGORIES:Awards / Dinners
END:VEVENT
BEGIN:VEVENT
DTSTART;VALUE=DATE:20260311
DTEND;VALUE=DATE:20260312
DTSTAMP:20260421T071540
CREATED:20251028T143213Z
LAST-MODIFIED:20251028T143213Z
UID:29967-1773187200-1773273599@www.jellybeancreative.co.uk
SUMMARY:UK Young Restaurant Team of the Year semi-final
DESCRIPTION:
URL:https://www.jellybeancreative.co.uk/event/uk-young-restaurant-team-of-the-year-semi-final/
CATEGORIES:Competition
END:VEVENT
BEGIN:VEVENT
DTSTART;VALUE=DATE:20260315
DTEND;VALUE=DATE:20260316
DTSTAMP:20260421T071540
CREATED:20251028T134621Z
LAST-MODIFIED:20251028T134621Z
UID:29902-1773532800-1773619199@www.jellybeancreative.co.uk
SUMMARY:Mother's Day UK
DESCRIPTION:
URL:https://www.jellybeancreative.co.uk/event/mothers-day-uk/
CATEGORIES:National Day / Week
END:VEVENT
BEGIN:VEVENT
DTSTART;VALUE=DATE:20260317
DTEND;VALUE=DATE:20260318
DTSTAMP:20260421T071540
CREATED:20251028T134314Z
LAST-MODIFIED:20251028T134314Z
UID:29894-1773705600-1773791999@www.jellybeancreative.co.uk
SUMMARY:St Patrick's Day
DESCRIPTION:
URL:https://www.jellybeancreative.co.uk/event/st-patricks-day/
CATEGORIES:National Day / Week
END:VEVENT
BEGIN:VEVENT
DTSTART;VALUE=DATE:20260318
DTEND;VALUE=DATE:20260319
DTSTAMP:20260421T071540
CREATED:20251028T133615Z
LAST-MODIFIED:20251028T133615Z
UID:29880-1773792000-1773878399@www.jellybeancreative.co.uk
SUMMARY:Safe and Responsible Retailing Conference
DESCRIPTION:
URL:https://www.jellybeancreative.co.uk/event/safe-and-responsible-retailing-conference/
CATEGORIES:Exhibitions and Conferences
END:VEVENT
BEGIN:VEVENT
DTSTART;VALUE=DATE:20260318
DTEND;VALUE=DATE:20260319
DTSTAMP:20260421T071540
CREATED:20251028T134244Z
LAST-MODIFIED:20251028T134244Z
UID:29892-1773792000-1773878399@www.jellybeancreative.co.uk
SUMMARY:Global Recycling Day
DESCRIPTION:
URL:https://www.jellybeancreative.co.uk/event/global-recycling-day/
CATEGORIES:National Day / Week
END:VEVENT
BEGIN:VEVENT
DTSTART;VALUE=DATE:20260320
DTEND;VALUE=DATE:20260321
DTSTAMP:20260421T071540
CREATED:20251028T134505Z
LAST-MODIFIED:20251028T134505Z
UID:29900-1773964800-1774051199@www.jellybeancreative.co.uk
SUMMARY:International Day of Happiness
DESCRIPTION:
URL:https://www.jellybeancreative.co.uk/event/international-day-of-happiness/
CATEGORIES:National Day / Week
END:VEVENT
BEGIN:VEVENT
DTSTART;VALUE=DATE:20260320
DTEND;VALUE=DATE:20260321
DTSTAMP:20260421T071540
CREATED:20251028T135909Z
LAST-MODIFIED:20251028T135909Z
UID:29926-1773964800-1774051199@www.jellybeancreative.co.uk
SUMMARY:Spring Equinox
DESCRIPTION:
URL:https://www.jellybeancreative.co.uk/event/spring-equinox/
CATEGORIES:National Day / Week
END:VEVENT
BEGIN:VEVENT
DTSTART;VALUE=DATE:20260322
DTEND;VALUE=DATE:20260323
DTSTAMP:20260421T071540
CREATED:20251028T135959Z
LAST-MODIFIED:20251028T135959Z
UID:29928-1774137600-1774223999@www.jellybeancreative.co.uk
SUMMARY:World Water Day
DESCRIPTION:
URL:https://www.jellybeancreative.co.uk/event/world-water-day/
CATEGORIES:National Day / Week
END:VEVENT
BEGIN:VEVENT
DTSTART;VALUE=DATE:20260324
DTEND;VALUE=DATE:20260325
DTSTAMP:20260421T071540
CREATED:20251028T143302Z
LAST-MODIFIED:20251028T143302Z
UID:29969-1774310400-1774396799@www.jellybeancreative.co.uk
SUMMARY:National Burger Awards
DESCRIPTION:
URL:https://www.jellybeancreative.co.uk/event/national-burger-awards/
CATEGORIES:Awards / Dinners
END:VEVENT
BEGIN:VEVENT
DTSTART;VALUE=DATE:20260325
DTEND;VALUE=DATE:20260326
DTSTAMP:20260421T071540
CREATED:20251028T135400Z
LAST-MODIFIED:20251028T135400Z
UID:29917-1774396800-1774483199@www.jellybeancreative.co.uk
SUMMARY:Vendex Midlands 2026
DESCRIPTION:
URL:https://www.jellybeancreative.co.uk/event/vendex-midlands-2026/
CATEGORIES:Exhibitions and Conferences
END:VEVENT
BEGIN:VEVENT
DTSTART;VALUE=DATE:20260325
DTEND;VALUE=DATE:20260326
DTSTAMP:20260421T071540
CREATED:20251028T145918Z
LAST-MODIFIED:20251028T145918Z
UID:29996-1774396800-1774483199@www.jellybeancreative.co.uk
SUMMARY:The Publican Awards
DESCRIPTION:
URL:https://www.jellybeancreative.co.uk/event/the-publican-awards/
END:VEVENT
BEGIN:VEVENT
DTSTART;VALUE=DATE:20260330
DTEND;VALUE=DATE:20260331
DTSTAMP:20260421T071540
CREATED:20251028T143342Z
LAST-MODIFIED:20251028T143342Z
UID:29971-1774828800-1774915199@www.jellybeancreative.co.uk
SUMMARY:TUCO Competitions
DESCRIPTION:
URL:https://www.jellybeancreative.co.uk/event/tuco-competitions-2/
CATEGORIES:Competition
END:VEVENT
BEGIN:VEVENT
DTSTART;VALUE=DATE:20260330
DTEND;VALUE=DATE:20260402
DTSTAMP:20260421T071540
CREATED:20251028T135456Z
LAST-MODIFIED:20251028T135456Z
UID:29920-1774828800-1775087999@www.jellybeancreative.co.uk
SUMMARY:HRC & IFE Show 2026
DESCRIPTION:
URL:https://www.jellybeancreative.co.uk/event/hrc-ife-show-2026/
CATEGORIES:Exhibitions and Conferences
END:VEVENT
BEGIN:VEVENT
DTSTART;VALUE=DATE:20260404
DTEND;VALUE=DATE:20260405
DTSTAMP:20260421T071540
CREATED:20251028T142216Z
LAST-MODIFIED:20251028T142216Z
UID:29953-1775260800-1775347199@www.jellybeancreative.co.uk
SUMMARY:International Carrot Day
DESCRIPTION:
URL:https://www.jellybeancreative.co.uk/event/international-carrot-day/
CATEGORIES:National Day / Week
END:VEVENT
BEGIN:VEVENT
DTSTART;VALUE=DATE:20260409
DTEND;VALUE=DATE:20260410
DTSTAMP:20260421T071540
CREATED:20251028T130917Z
LAST-MODIFIED:20251028T130917Z
UID:29878-1775692800-1775779199@www.jellybeancreative.co.uk
SUMMARY:Public Sector Catering Awards
DESCRIPTION:
URL:https://www.jellybeancreative.co.uk/event/public-sector-catering-awards/
LOCATION:Hilton London Metropole\, London
END:VEVENT
BEGIN:VEVENT
DTSTART;VALUE=DATE:20260410
DTEND;VALUE=DATE:20260411
DTSTAMP:20260421T071540
CREATED:20251028T143421Z
LAST-MODIFIED:20251028T143421Z
UID:29973-1775779200-1775865599@www.jellybeancreative.co.uk
SUMMARY:Zest Quest Asia
DESCRIPTION:
URL:https://www.jellybeancreative.co.uk/event/zest-quest-asia/
CATEGORIES:Competition
END:VEVENT
BEGIN:VEVENT
DTSTART;TZID=Europe/London:20260410T080000
DTEND;TZID=Europe/London:20260419T170000
DTSTAMP:20260421T071540
CREATED:20251028T141630Z
LAST-MODIFIED:20251028T141630Z
UID:29938-1775808000-1776618000@www.jellybeancreative.co.uk
SUMMARY:Eat & Drink Festival
DESCRIPTION:
URL:https://www.jellybeancreative.co.uk/event/eat-drink-festival/
LOCATION:London Olympia
CATEGORIES:Exhibitions and Conferences
END:VEVENT
BEGIN:VEVENT
DTSTART;VALUE=DATE:20260413
DTEND;VALUE=DATE:20260414
DTSTAMP:20260421T071540
CREATED:20251028T141259Z
LAST-MODIFIED:20251028T141259Z
UID:29934-1776038400-1776124799@www.jellybeancreative.co.uk
SUMMARY:World Food Innovation Awards
DESCRIPTION:
URL:https://www.jellybeancreative.co.uk/event/world-food-innovation-awards/
CATEGORIES:Awards / Dinners
END:VEVENT
BEGIN:VEVENT
DTSTART;VALUE=DATE:20260413
DTEND;VALUE=DATE:20260416
DTSTAMP:20260421T071540
CREATED:20251028T141752Z
LAST-MODIFIED:20251028T141752Z
UID:29941-1776038400-1776297599@www.jellybeancreative.co.uk
SUMMARY:UK Food and Drink Shows
DESCRIPTION:
URL:https://www.jellybeancreative.co.uk/event/uk-food-and-drink-shows/
LOCATION:Birmingham NEC
END:VEVENT
BEGIN:VEVENT
DTSTART;TZID=Europe/London:20260413T080000
DTEND;TZID=Europe/London:20260416T170000
DTSTAMP:20260421T071540
CREATED:20251028T133819Z
LAST-MODIFIED:20251028T133819Z
UID:29884-1776067200-1776358800@www.jellybeancreative.co.uk
SUMMARY:HCA Leadership and Development Forum
DESCRIPTION:
URL:https://www.jellybeancreative.co.uk/event/hca-leadership-and-development-forum/
LOCATION:DoubleTree Brighton Metropole
CATEGORIES:Exhibitions and Conferences
END:VEVENT
BEGIN:VEVENT
DTSTART;VALUE=DATE:20260414
DTEND;VALUE=DATE:20260415
DTSTAMP:20260421T071540
CREATED:20251028T133659Z
LAST-MODIFIED:20251028T133659Z
UID:29882-1776124800-1776211199@www.jellybeancreative.co.uk
SUMMARY:ACS Conference26
DESCRIPTION:
URL:https://www.jellybeancreative.co.uk/event/acs-conference26/
CATEGORIES:Exhibitions and Conferences
END:VEVENT
BEGIN:VEVENT
DTSTART;VALUE=DATE:20260414
DTEND;VALUE=DATE:20260416
DTSTAMP:20260421T071540
CREATED:20251028T141416Z
LAST-MODIFIED:20251028T141416Z
UID:29936-1776124800-1776297599@www.jellybeancreative.co.uk
SUMMARY:HCA Leadership Conference
DESCRIPTION:
URL:https://www.jellybeancreative.co.uk/event/hca-leadership-conference/
CATEGORIES:Exhibitions and Conferences
END:VEVENT
END:VCALENDAR