BEGIN:VCALENDAR
VERSION:2.0
PRODID:-//Jellybean Creative Solutions - ECPv6.15.20//NONSGML v1.0//EN
CALSCALE:GREGORIAN
METHOD:PUBLISH
X-ORIGINAL-URL:https://www.jellybeancreative.co.uk
X-WR-CALDESC:Events for Jellybean Creative Solutions
REFRESH-INTERVAL;VALUE=DURATION:PT1H
X-Robots-Tag:noindex
X-PUBLISHED-TTL:PT1H
BEGIN:VTIMEZONE
TZID:Europe/London
BEGIN:DAYLIGHT
TZOFFSETFROM:+0000
TZOFFSETTO:+0100
TZNAME:BST
DTSTART:20240331T010000
END:DAYLIGHT
BEGIN:STANDARD
TZOFFSETFROM:+0100
TZOFFSETTO:+0000
TZNAME:GMT
DTSTART:20241027T010000
END:STANDARD
BEGIN:DAYLIGHT
TZOFFSETFROM:+0000
TZOFFSETTO:+0100
TZNAME:BST
DTSTART:20250330T010000
END:DAYLIGHT
BEGIN:STANDARD
TZOFFSETFROM:+0100
TZOFFSETTO:+0000
TZNAME:GMT
DTSTART:20251026T010000
END:STANDARD
BEGIN:DAYLIGHT
TZOFFSETFROM:+0000
TZOFFSETTO:+0100
TZNAME:BST
DTSTART:20260329T010000
END:DAYLIGHT
BEGIN:STANDARD
TZOFFSETFROM:+0100
TZOFFSETTO:+0000
TZNAME:GMT
DTSTART:20261025T010000
END:STANDARD
BEGIN:DAYLIGHT
TZOFFSETFROM:+0000
TZOFFSETTO:+0100
TZNAME:BST
DTSTART:20270328T010000
END:DAYLIGHT
BEGIN:STANDARD
TZOFFSETFROM:+0100
TZOFFSETTO:+0000
TZNAME:GMT
DTSTART:20271031T010000
END:STANDARD
END:VTIMEZONE
BEGIN:VEVENT
DTSTART;VALUE=DATE:20251124
DTEND;VALUE=DATE:20251125
DTSTAMP:20260421T040922
CREATED:20250813T101734Z
LAST-MODIFIED:20250813T101734Z
UID:29321-1763942400-1764028799@www.jellybeancreative.co.uk
SUMMARY:Hotel Cateys 2025
DESCRIPTION:
URL:https://www.jellybeancreative.co.uk/event/hotel-cateys-2025/
LOCATION:Park Plaza Westminster Bridge\, London\, United Kingdom
CATEGORIES:Awards / Dinners
END:VEVENT
BEGIN:VEVENT
DTSTART;VALUE=DATE:20251125
DTEND;VALUE=DATE:20251126
DTSTAMP:20260421T040922
CREATED:20250813T095042Z
LAST-MODIFIED:20250813T095042Z
UID:29305-1764028800-1764115199@www.jellybeancreative.co.uk
SUMMARY:National Bakery Awards
DESCRIPTION:
URL:https://www.jellybeancreative.co.uk/event/national-bakery-awards/
LOCATION:Big Penny Social\, London
CATEGORIES:Awards / Dinners
END:VEVENT
BEGIN:VEVENT
DTSTART;VALUE=DATE:20251127
DTEND;VALUE=DATE:20251128
DTSTAMP:20260421T040922
CREATED:20250813T084420Z
LAST-MODIFIED:20250813T084529Z
UID:29297-1764201600-1764287999@www.jellybeancreative.co.uk
SUMMARY:FWD Gold Medal Awards
DESCRIPTION:
URL:https://www.jellybeancreative.co.uk/event/fwd-gold-medal-awards/
LOCATION:Old Billingsgate\, London
CATEGORIES:Awards / Dinners
END:VEVENT
BEGIN:VEVENT
DTSTART;TZID=Europe/London:20251201T103000
DTEND;TZID=Europe/London:20251201T170000
DTSTAMP:20260421T040922
CREATED:20250930T130028Z
LAST-MODIFIED:20250930T130028Z
UID:29642-1764585000-1764608400@www.jellybeancreative.co.uk
SUMMARY:Arena Christmas Lunch
DESCRIPTION:
URL:https://www.jellybeancreative.co.uk/event/arena-christmas-lunch/
LOCATION:Mandarin Oriental Hyde Park\, London\, United Kingdom
CATEGORIES:Awards / Dinners
END:VEVENT
BEGIN:VEVENT
DTSTART;VALUE=DATE:20251204
DTEND;VALUE=DATE:20251205
DTSTAMP:20260421T040922
CREATED:20250611T102547Z
LAST-MODIFIED:20250611T102547Z
UID:29093-1764806400-1764892799@www.jellybeancreative.co.uk
SUMMARY:Sainsbury's Big Bash in aid of Grocery Aid
DESCRIPTION:
URL:https://www.jellybeancreative.co.uk/event/sainsburys-big-bash-in-aid-of-grocery-aid/
LOCATION:Evolution London\, Chelsea Bridge\, London\, United Kingdom
CATEGORIES:General Event
END:VEVENT
BEGIN:VEVENT
DTSTART;VALUE=DATE:20251206
DTEND;VALUE=DATE:20251207
DTSTAMP:20260421T040922
CREATED:20250610T145901Z
LAST-MODIFIED:20250611T110851Z
UID:29066-1764979200-1765065599@www.jellybeancreative.co.uk
SUMMARY:London Vegan Fayre
DESCRIPTION:xxx
URL:https://www.jellybeancreative.co.uk/event/london-vegan-fayre/
LOCATION:Kensington Town Hall\, London\, United Kingdom
CATEGORIES:Exhibitions and Conferences
END:VEVENT
BEGIN:VEVENT
DTSTART;TZID=Europe/London:20251216T113000
DTEND;TZID=Europe/London:20251216T183000
DTSTAMP:20260421T040922
CREATED:20250812T145631Z
LAST-MODIFIED:20250812T145631Z
UID:29270-1765884600-1765909800@www.jellybeancreative.co.uk
SUMMARY:UK Hospitality Christmas Lunch
DESCRIPTION:
URL:https://www.jellybeancreative.co.uk/event/uk-hospitality-christmas-lunch/
LOCATION:Old Billingsgate\, London
CATEGORIES:Awards / Dinners
END:VEVENT
BEGIN:VEVENT
DTSTART;VALUE=DATE:20260101
DTEND;VALUE=DATE:20260201
DTSTAMP:20260421T040922
CREATED:20251015T145326Z
LAST-MODIFIED:20251015T145326Z
UID:29763-1767225600-1769903999@www.jellybeancreative.co.uk
SUMMARY:Dry January
DESCRIPTION:
URL:https://www.jellybeancreative.co.uk/event/dry-january/
CATEGORIES:National Day / Week
END:VEVENT
BEGIN:VEVENT
DTSTART;VALUE=DATE:20260101
DTEND;VALUE=DATE:20260201
DTSTAMP:20260421T040922
CREATED:20251015T145429Z
LAST-MODIFIED:20251015T145429Z
UID:29766-1767225600-1769903999@www.jellybeancreative.co.uk
SUMMARY:Veganuary
DESCRIPTION:
URL:https://www.jellybeancreative.co.uk/event/veganuary/
CATEGORIES:National Day / Week
END:VEVENT
BEGIN:VEVENT
DTSTART;VALUE=DATE:20260108
DTEND;VALUE=DATE:20260109
DTSTAMP:20260421T040922
CREATED:20251028T143040Z
LAST-MODIFIED:20251028T143040Z
UID:29961-1767830400-1767916799@www.jellybeancreative.co.uk
SUMMARY:Craft Guild of Chefs Education & Training Summit
DESCRIPTION:
URL:https://www.jellybeancreative.co.uk/event/craft-guild-of-chefs-education-training-summit/
CATEGORIES:Exhibitions and Conferences
END:VEVENT
BEGIN:VEVENT
DTSTART;TZID=Europe/London:20260113T080000
DTEND;TZID=Europe/London:20260113T170000
DTSTAMP:20260421T040922
CREATED:20251028T123924Z
LAST-MODIFIED:20251028T123924Z
UID:29861-1768291200-1768323600@www.jellybeancreative.co.uk
SUMMARY:British Frozen Food Awards 2026
DESCRIPTION:
URL:https://www.jellybeancreative.co.uk/event/british-frozen-food-awards-2026/
CATEGORIES:Awards / Dinners
END:VEVENT
BEGIN:VEVENT
DTSTART;VALUE=DATE:20260119
DTEND;VALUE=DATE:20260120
DTSTAMP:20260421T040922
CREATED:20251015T145629Z
LAST-MODIFIED:20251015T145629Z
UID:29768-1768780800-1768867199@www.jellybeancreative.co.uk
SUMMARY:Brew Monday
DESCRIPTION:
URL:https://www.jellybeancreative.co.uk/event/brew-monday/
CATEGORIES:National Day / Week
END:VEVENT
BEGIN:VEVENT
DTSTART;VALUE=DATE:20260119
DTEND;VALUE=DATE:20260121
DTSTAMP:20260421T040922
CREATED:20251028T142621Z
LAST-MODIFIED:20251028T142621Z
UID:29955-1768780800-1768953599@www.jellybeancreative.co.uk
SUMMARY:Hotel Leadership Conference
DESCRIPTION:
URL:https://www.jellybeancreative.co.uk/event/hotel-leadership-conference/
CATEGORIES:Exhibitions and Conferences
END:VEVENT
BEGIN:VEVENT
DTSTART;VALUE=DATE:20260122
DTEND;VALUE=DATE:20260123
DTSTAMP:20260421T040922
CREATED:20251028T122725Z
LAST-MODIFIED:20251028T122725Z
UID:29840-1769040000-1769126399@www.jellybeancreative.co.uk
SUMMARY:International Hot Sauce Day
DESCRIPTION:
URL:https://www.jellybeancreative.co.uk/event/international-hot-sauce-day/
END:VEVENT
BEGIN:VEVENT
DTSTART;VALUE=DATE:20260125
DTEND;VALUE=DATE:20260126
DTSTAMP:20260421T040922
CREATED:20251028T122643Z
LAST-MODIFIED:20251028T122643Z
UID:29838-1769299200-1769385599@www.jellybeancreative.co.uk
SUMMARY:Burns Night
DESCRIPTION:
URL:https://www.jellybeancreative.co.uk/event/burns-night-2/
END:VEVENT
BEGIN:VEVENT
DTSTART;VALUE=DATE:20260127
DTEND;VALUE=DATE:20260128
DTSTAMP:20260421T040922
CREATED:20251028T135737Z
LAST-MODIFIED:20251028T135737Z
UID:29924-1769472000-1769558399@www.jellybeancreative.co.uk
SUMMARY:International Chocolate Cake Day
DESCRIPTION:
URL:https://www.jellybeancreative.co.uk/event/international-chocolate-cake-day/
CATEGORIES:National Day / Week
END:VEVENT
BEGIN:VEVENT
DTSTART;TZID=Europe/London:20260203T080000
DTEND;TZID=Europe/London:20260204T170000
DTSTAMP:20260421T040922
CREATED:20251028T123155Z
LAST-MODIFIED:20251028T123155Z
UID:29850-1770105600-1770224400@www.jellybeancreative.co.uk
SUMMARY:The Source Trade Show
DESCRIPTION:
URL:https://www.jellybeancreative.co.uk/event/the-source-trade-show-2/
LOCATION:Exeter
CATEGORIES:Exhibitions and Conferences
END:VEVENT
BEGIN:VEVENT
DTSTART;VALUE=DATE:20260204
DTEND;VALUE=DATE:20260205
DTSTAMP:20260421T040922
CREATED:20251028T145633Z
LAST-MODIFIED:20251028T145633Z
UID:29990-1770163200-1770249599@www.jellybeancreative.co.uk
SUMMARY:The Caterer: Best Places to work in Hospitality
DESCRIPTION:
URL:https://www.jellybeancreative.co.uk/event/the-caterer-best-places-to-work-in-hospitality/
CATEGORIES:General Event
END:VEVENT
BEGIN:VEVENT
DTSTART;VALUE=DATE:20260205
DTEND;VALUE=DATE:20260206
DTSTAMP:20260421T040922
CREATED:20251028T122806Z
LAST-MODIFIED:20251028T122806Z
UID:29842-1770249600-1770335999@www.jellybeancreative.co.uk
SUMMARY:World Nutella Day
DESCRIPTION:
URL:https://www.jellybeancreative.co.uk/event/world-nutella-day-2/
END:VEVENT
BEGIN:VEVENT
DTSTART;VALUE=DATE:20260205
DTEND;VALUE=DATE:20260206
DTSTAMP:20260421T040922
CREATED:20251028T145730Z
LAST-MODIFIED:20251028T145730Z
UID:29992-1770249600-1770335999@www.jellybeancreative.co.uk
SUMMARY:Food Manufacture Excellence Awards
DESCRIPTION:
URL:https://www.jellybeancreative.co.uk/event/food-manufacture-excellence-awards/
CATEGORIES:Awards / Dinners
END:VEVENT
BEGIN:VEVENT
DTSTART;TZID=Europe/London:20260205T080000
DTEND;TZID=Europe/London:20260314T170000
DTSTAMP:20260421T040922
CREATED:20251028T123538Z
LAST-MODIFIED:20251028T123538Z
UID:29855-1770278400-1773507600@www.jellybeancreative.co.uk
SUMMARY:Six Nations Rugby
DESCRIPTION:
URL:https://www.jellybeancreative.co.uk/event/six-nations-rugby/
CATEGORIES:Competition
END:VEVENT
BEGIN:VEVENT
DTSTART;VALUE=DATE:20260206
DTEND;VALUE=DATE:20260207
DTSTAMP:20260421T040922
CREATED:20251028T122836Z
LAST-MODIFIED:20251028T122836Z
UID:29844-1770336000-1770422399@www.jellybeancreative.co.uk
SUMMARY:#ReclaimSocial Day
DESCRIPTION:
URL:https://www.jellybeancreative.co.uk/event/reclaimsocial-day/
END:VEVENT
BEGIN:VEVENT
DTSTART;VALUE=DATE:20260209
DTEND;VALUE=DATE:20260210
DTSTAMP:20260421T040922
CREATED:20251028T135615Z
LAST-MODIFIED:20251028T135615Z
UID:29922-1770595200-1770681599@www.jellybeancreative.co.uk
SUMMARY:National Pizza Day
DESCRIPTION:
URL:https://www.jellybeancreative.co.uk/event/national-pizza-day/
CATEGORIES:National Day / Week
END:VEVENT
BEGIN:VEVENT
DTSTART;TZID=Europe/London:20260209T080000
DTEND;TZID=Europe/London:20260215T170000
DTSTAMP:20260421T040922
CREATED:20251028T123455Z
LAST-MODIFIED:20251028T123455Z
UID:29853-1770624000-1771174800@www.jellybeancreative.co.uk
SUMMARY:National Apprenticeship Week
DESCRIPTION:
URL:https://www.jellybeancreative.co.uk/event/national-apprenticeship-week-2/
CATEGORIES:National Day / Week
END:VEVENT
BEGIN:VEVENT
DTSTART;VALUE=DATE:20260212
DTEND;VALUE=DATE:20260213
DTSTAMP:20260421T040922
CREATED:20251028T145809Z
LAST-MODIFIED:20251028T145809Z
UID:29994-1770854400-1770940799@www.jellybeancreative.co.uk
SUMMARY:Food Manufacture Business Leaders’ Forum
DESCRIPTION:
URL:https://www.jellybeancreative.co.uk/event/food-manufacture-business-leaders-forum/
END:VEVENT
BEGIN:VEVENT
DTSTART;VALUE=DATE:20260217
DTEND;VALUE=DATE:20260319
DTSTAMP:20260421T040922
CREATED:20251028T135152Z
LAST-MODIFIED:20251028T135152Z
UID:29913-1771286400-1773878399@www.jellybeancreative.co.uk
SUMMARY:Ramadan
DESCRIPTION:
URL:https://www.jellybeancreative.co.uk/event/ramadan/
CATEGORIES:National Day / Week
END:VEVENT
BEGIN:VEVENT
DTSTART;TZID=Europe/London:20260217T080000
DTEND;TZID=Europe/London:20260303T170000
DTSTAMP:20260421T040922
CREATED:20251028T123041Z
LAST-MODIFIED:20251028T123041Z
UID:29848-1771315200-1772557200@www.jellybeancreative.co.uk
SUMMARY:Chinese New Year
DESCRIPTION:
URL:https://www.jellybeancreative.co.uk/event/chinese-new-year/
CATEGORIES:General Event
END:VEVENT
BEGIN:VEVENT
DTSTART;VALUE=DATE:20260219
DTEND;VALUE=DATE:20260220
DTSTAMP:20260421T040922
CREATED:20251028T144053Z
LAST-MODIFIED:20251028T144053Z
UID:29981-1771459200-1771545599@www.jellybeancreative.co.uk
SUMMARY:LACA London & South East Regional Event "Supplier Meet The Buyer"
DESCRIPTION:
URL:https://www.jellybeancreative.co.uk/event/laca-london-south-east-regional-event-supplier-meet-the-buyer/
END:VEVENT
BEGIN:VEVENT
DTSTART;TZID=Europe/London:20260221T080000
DTEND;TZID=Europe/London:20260301T170000
DTSTAMP:20260421T040922
CREATED:20251028T122940Z
LAST-MODIFIED:20251028T122940Z
UID:29846-1771660800-1772384400@www.jellybeancreative.co.uk
SUMMARY:Real Bread Week
DESCRIPTION:
URL:https://www.jellybeancreative.co.uk/event/real-bread-week/
CATEGORIES:General Event
END:VEVENT
BEGIN:VEVENT
DTSTART;TZID=Europe/London:20260223T080000
DTEND;TZID=Europe/London:20260308T170000
DTSTAMP:20260421T040922
CREATED:20251028T134802Z
LAST-MODIFIED:20251028T134802Z
UID:29904-1771833600-1772989200@www.jellybeancreative.co.uk
SUMMARY:Fairtrade Fortnight
DESCRIPTION:
URL:https://www.jellybeancreative.co.uk/event/fairtrade-fortnight-2/
CATEGORIES:National Day / Week
END:VEVENT
END:VCALENDAR