BEGIN:VCALENDAR
VERSION:2.0
PRODID:-//Jellybean Creative Solutions - ECPv6.15.20//NONSGML v1.0//EN
CALSCALE:GREGORIAN
METHOD:PUBLISH
X-ORIGINAL-URL:https://www.jellybeancreative.co.uk
X-WR-CALDESC:Events for Jellybean Creative Solutions
REFRESH-INTERVAL;VALUE=DURATION:PT1H
X-Robots-Tag:noindex
X-PUBLISHED-TTL:PT1H
BEGIN:VTIMEZONE
TZID:Europe/London
BEGIN:DAYLIGHT
TZOFFSETFROM:+0000
TZOFFSETTO:+0100
TZNAME:BST
DTSTART:20240331T010000
END:DAYLIGHT
BEGIN:STANDARD
TZOFFSETFROM:+0100
TZOFFSETTO:+0000
TZNAME:GMT
DTSTART:20241027T010000
END:STANDARD
BEGIN:DAYLIGHT
TZOFFSETFROM:+0000
TZOFFSETTO:+0100
TZNAME:BST
DTSTART:20250330T010000
END:DAYLIGHT
BEGIN:STANDARD
TZOFFSETFROM:+0100
TZOFFSETTO:+0000
TZNAME:GMT
DTSTART:20251026T010000
END:STANDARD
BEGIN:DAYLIGHT
TZOFFSETFROM:+0000
TZOFFSETTO:+0100
TZNAME:BST
DTSTART:20260329T010000
END:DAYLIGHT
BEGIN:STANDARD
TZOFFSETFROM:+0100
TZOFFSETTO:+0000
TZNAME:GMT
DTSTART:20261025T010000
END:STANDARD
END:VTIMEZONE
BEGIN:VEVENT
DTSTART;VALUE=DATE:20250211
DTEND;VALUE=DATE:20250212
DTSTAMP:20260420T011849
CREATED:20241114T091659Z
LAST-MODIFIED:20241114T091659Z
UID:27836-1739232000-1739318399@www.jellybeancreative.co.uk
SUMMARY:National Burger Awards 2025
DESCRIPTION:
URL:https://www.jellybeancreative.co.uk/event/national-burger-awards-2025/
LOCATION:Big Penny Social\, London
CATEGORIES:Awards / Dinners
END:VEVENT
BEGIN:VEVENT
DTSTART;TZID=Europe/London:20250211T080000
DTEND;TZID=Europe/London:20250211T170000
DTSTAMP:20260420T011849
CREATED:20241113T153543Z
LAST-MODIFIED:20241113T153543Z
UID:27810-1739260800-1739293200@www.jellybeancreative.co.uk
SUMMARY:Live! Retail Week x The Grocer: Innovation/Transformation
DESCRIPTION:
URL:https://www.jellybeancreative.co.uk/event/live-retail-week-x-the-grocer-innovation-transformation/
LOCATION:Business Design Centre\, 52 Upper Islington\, London\, United Kingdom
CATEGORIES:Exhibitions and Conferences
END:VEVENT
BEGIN:VEVENT
DTSTART;VALUE=DATE:20250220
DTEND;VALUE=DATE:20250221
DTSTAMP:20260420T011849
CREATED:20250220T153720Z
LAST-MODIFIED:20250220T153720Z
UID:28478-1740009600-1740095999@www.jellybeancreative.co.uk
SUMMARY:National Pizza Awards
DESCRIPTION:
URL:https://www.jellybeancreative.co.uk/event/national-pizza-awards/
LOCATION:Big Penny Social\, London
CATEGORIES:Awards / Dinners
END:VEVENT
BEGIN:VEVENT
DTSTART;TZID=Europe/London:20250225T110000
DTEND;TZID=Europe/London:20250225T160000
DTSTAMP:20260420T011849
CREATED:20241113T162020Z
LAST-MODIFIED:20241113T162020Z
UID:27826-1740481200-1740499200@www.jellybeancreative.co.uk
SUMMARY:Forecourt Trader Summit - People\, Planet\, Profit
DESCRIPTION:
URL:https://www.jellybeancreative.co.uk/event/forecourt-trader-summit-people-planet-profit/
LOCATION:The Belfrey\, West Midlands\, United Kingdom
CATEGORIES:Awards / Dinners
END:VEVENT
BEGIN:VEVENT
DTSTART;VALUE=DATE:20250226
DTEND;VALUE=DATE:20250227
DTSTAMP:20260420T011849
CREATED:20241113T125823Z
LAST-MODIFIED:20241113T125823Z
UID:27793-1740528000-1740614399@www.jellybeancreative.co.uk
SUMMARY:UK Hospitality Workplace & Skills Event 2025
DESCRIPTION:
URL:https://www.jellybeancreative.co.uk/event/uk-hospitality-workplace-skills-event-2025/
LOCATION:Principal’s De Vere Grand Connaught Rooms\, London\, United Kingdom
CATEGORIES:Exhibitions and Conferences
END:VEVENT
BEGIN:VEVENT
DTSTART;VALUE=DATE:20250226
DTEND;VALUE=DATE:20250228
DTSTAMP:20260420T011849
CREATED:20241119T103614Z
LAST-MODIFIED:20241119T103614Z
UID:27897-1740528000-1740700799@www.jellybeancreative.co.uk
SUMMARY:ScotHot 2025
DESCRIPTION:
URL:https://www.jellybeancreative.co.uk/event/scothot-2025/
LOCATION:Glasgow SEC\, Gla
CATEGORIES:Exhibitions and Conferences
END:VEVENT
BEGIN:VEVENT
DTSTART;TZID=Europe/London:20250226T100000
DTEND;TZID=Europe/London:20250226T113000
DTSTAMP:20260420T011849
CREATED:20250220T150524Z
LAST-MODIFIED:20250220T150524Z
UID:28453-1740564000-1740569400@www.jellybeancreative.co.uk
SUMMARY:The Caterer AI Summit
DESCRIPTION:
URL:https://www.jellybeancreative.co.uk/event/the-caterer-ai-summit/
LOCATION:Webinar
CATEGORIES:Exhibitions and Conferences
END:VEVENT
BEGIN:VEVENT
DTSTART;TZID=Europe/London:20250227T183000
DTEND;TZID=Europe/London:20250227T233000
DTSTAMP:20260420T011849
CREATED:20241114T092335Z
LAST-MODIFIED:20241114T092335Z
UID:27840-1740681000-1740699000@www.jellybeancreative.co.uk
SUMMARY:HA - The Great Coast-to-Coast Dinner
DESCRIPTION:
URL:https://www.jellybeancreative.co.uk/event/ha-the-great-coast-to-coast-dinner/
LOCATION:The Alverton Hotel\, Truro\, United Kingdom
CATEGORIES:General Event
END:VEVENT
BEGIN:VEVENT
DTSTART;VALUE=DATE:20250303
DTEND;VALUE=DATE:20250304
DTSTAMP:20260420T011849
CREATED:20241114T091520Z
LAST-MODIFIED:20241114T091520Z
UID:27834-1740960000-1741046399@www.jellybeancreative.co.uk
SUMMARY:Contract Catering Awards 2025
DESCRIPTION:
URL:https://www.jellybeancreative.co.uk/event/contract-catering-awards-2025/
LOCATION:Park Plaza Westminster Bridge\, London\, United Kingdom
END:VEVENT
BEGIN:VEVENT
DTSTART;VALUE=DATE:20250306
DTEND;VALUE=DATE:20250307
DTSTAMP:20260420T011849
CREATED:20241113T114914Z
LAST-MODIFIED:20241113T114914Z
UID:27787-1741219200-1741305599@www.jellybeancreative.co.uk
SUMMARY:Food to Go Conference 2025
DESCRIPTION:
URL:https://www.jellybeancreative.co.uk/event/food-to-go-conference-2025/
LOCATION:Ham Yard Hotel\, London\, United Kingdom
CATEGORIES:Exhibitions and Conferences
END:VEVENT
BEGIN:VEVENT
DTSTART;VALUE=DATE:20250306
DTEND;VALUE=DATE:20250307
DTSTAMP:20260420T011849
CREATED:20241114T122319Z
LAST-MODIFIED:20241114T122319Z
UID:27859-1741219200-1741305599@www.jellybeancreative.co.uk
SUMMARY:Grocery Aid Ball
DESCRIPTION:
URL:https://www.jellybeancreative.co.uk/event/grocery-aid-ball/
LOCATION:Grosvenor House Hotel\, London\, United Kingdom
CATEGORIES:General Event
END:VEVENT
BEGIN:VEVENT
DTSTART;TZID=Europe/London:20250310T100000
DTEND;TZID=Europe/London:20250310T153000
DTSTAMP:20260420T011849
CREATED:20250117T090449Z
LAST-MODIFIED:20250117T090449Z
UID:28360-1741600800-1741620600@www.jellybeancreative.co.uk
SUMMARY:Arena: "The Changing Landscape of Foodservice & Hospitality"
DESCRIPTION:
URL:https://www.jellybeancreative.co.uk/event/arena-the-changing-landscape-of-foodservice-hospitality/
LOCATION:Sofitel London\, London\, United Kingdom
CATEGORIES:Exhibitions and Conferences
END:VEVENT
BEGIN:VEVENT
DTSTART;VALUE=DATE:20250311
DTEND;VALUE=DATE:20250313
DTSTAMP:20260420T011849
CREATED:20241119T124929Z
LAST-MODIFIED:20241119T124929Z
UID:27904-1741651200-1741823999@www.jellybeancreative.co.uk
SUMMARY:Northern Restaurant and Bar 2025
DESCRIPTION:
URL:https://www.jellybeancreative.co.uk/event/northern-restaurant-and-bar-2025/
LOCATION:Manchester Central\, Manchester\, United Kingdom
CATEGORIES:Exhibitions and Conferences
END:VEVENT
BEGIN:VEVENT
DTSTART;TZID=Europe/London:20250311T180000
DTEND;TZID=Europe/London:20250311T223000
DTSTAMP:20260420T011849
CREATED:20250220T160402Z
LAST-MODIFIED:20250220T160402Z
UID:28482-1741716000-1741732200@www.jellybeancreative.co.uk
SUMMARY:UK Hospitality Networking Dinner\, Manchester
DESCRIPTION:
URL:https://www.jellybeancreative.co.uk/event/uk-hospitality-networking-dinner-manchester/
LOCATION:Marriott Victoria & Albert\, Manchester
CATEGORIES:Awards / Dinners
END:VEVENT
BEGIN:VEVENT
DTSTART;TZID=Europe/London:20250312T090000
DTEND;TZID=Europe/London:20250312T143000
DTSTAMP:20260420T011849
CREATED:20250227T130037Z
LAST-MODIFIED:20250227T130037Z
UID:28544-1741770000-1741789800@www.jellybeancreative.co.uk
SUMMARY:ACS Safe & Responsible Retailing Conference 2025
DESCRIPTION:
URL:https://www.jellybeancreative.co.uk/event/acs-safe-responsible-retailing-conference-2025/
LOCATION:Birmingham Repertory Theatre\, United Kingdom
CATEGORIES:Exhibitions and Conferences
END:VEVENT
BEGIN:VEVENT
DTSTART;VALUE=DATE:20250313
DTEND;VALUE=DATE:20250314
DTSTAMP:20260420T011849
CREATED:20241113T160724Z
LAST-MODIFIED:20241113T160724Z
UID:27822-1741824000-1741910399@www.jellybeancreative.co.uk
SUMMARY:MCA Hospitality Awards 2025
DESCRIPTION:
URL:https://www.jellybeancreative.co.uk/event/mca-hospitality-awards-2025/
LOCATION:The Guildhall\, London
CATEGORIES:Awards / Dinners
END:VEVENT
BEGIN:VEVENT
DTSTART;VALUE=DATE:20250313
DTEND;VALUE=DATE:20250314
DTSTAMP:20260420T011849
CREATED:20241119T103737Z
LAST-MODIFIED:20241119T103737Z
UID:27899-1741824000-1741910399@www.jellybeancreative.co.uk
SUMMARY:FPA Awards 2025
DESCRIPTION:
URL:https://www.jellybeancreative.co.uk/event/fpa-awards-2025/
LOCATION:Grand Hotel\, Brighton\, Brighton\, United Kingdom
CATEGORIES:Awards / Dinners
END:VEVENT
BEGIN:VEVENT
DTSTART;VALUE=DATE:20250317
DTEND;VALUE=DATE:20250320
DTSTAMP:20260420T011849
CREATED:20241113T144952Z
LAST-MODIFIED:20241113T144952Z
UID:27797-1742169600-1742428799@www.jellybeancreative.co.uk
SUMMARY:Food\, Drink & Hospitality Week
DESCRIPTION:
URL:https://www.jellybeancreative.co.uk/event/food-drink-hospitality-week/
LOCATION:ExCel\, London\, United Kingdom
CATEGORIES:Exhibitions and Conferences
END:VEVENT
BEGIN:VEVENT
DTSTART;VALUE=DATE:20250317
DTEND;VALUE=DATE:20250320
DTSTAMP:20260420T011849
CREATED:20241113T145108Z
LAST-MODIFIED:20241113T145108Z
UID:27799-1742169600-1742428799@www.jellybeancreative.co.uk
SUMMARY:IFE - International Food Event
DESCRIPTION:
URL:https://www.jellybeancreative.co.uk/event/ife-international-food-event/
LOCATION:ExCel\, London\, United Kingdom
CATEGORIES:Exhibitions and Conferences
END:VEVENT
BEGIN:VEVENT
DTSTART;VALUE=DATE:20250317
DTEND;VALUE=DATE:20250320
DTSTAMP:20260420T011850
CREATED:20241113T145212Z
LAST-MODIFIED:20241113T145212Z
UID:27801-1742169600-1742428799@www.jellybeancreative.co.uk
SUMMARY:The Pub Show
DESCRIPTION:
URL:https://www.jellybeancreative.co.uk/event/the-pub-show/
LOCATION:ExCel\, London\, United Kingdom
CATEGORIES:Exhibitions and Conferences
END:VEVENT
BEGIN:VEVENT
DTSTART;VALUE=DATE:20250317
DTEND;VALUE=DATE:20250320
DTSTAMP:20260420T011850
CREATED:20241113T145336Z
LAST-MODIFIED:20241113T145336Z
UID:27803-1742169600-1742428799@www.jellybeancreative.co.uk
SUMMARY:HRC - Hotel\, Restaurant & Catering Show
DESCRIPTION:
URL:https://www.jellybeancreative.co.uk/event/hrc-hotel-restaurant-catering-show/
LOCATION:ExCel\, London\, United Kingdom
CATEGORIES:Exhibitions and Conferences
END:VEVENT
BEGIN:VEVENT
DTSTART;VALUE=DATE:20250317
DTEND;VALUE=DATE:20250320
DTSTAMP:20260420T011850
CREATED:20241113T145448Z
LAST-MODIFIED:20241113T145448Z
UID:27805-1742169600-1742428799@www.jellybeancreative.co.uk
SUMMARY:International Salon Culinaire
DESCRIPTION:
URL:https://www.jellybeancreative.co.uk/event/international-salon-culinaire/
LOCATION:ExCel\, London\, United Kingdom
END:VEVENT
BEGIN:VEVENT
DTSTART;VALUE=DATE:20250317
DTEND;VALUE=DATE:20250324
DTSTAMP:20260420T011850
CREATED:20241119T104146Z
LAST-MODIFIED:20241119T104146Z
UID:27901-1742169600-1742774399@www.jellybeancreative.co.uk
SUMMARY:Nutrition & Hydration Week 2025
DESCRIPTION:
URL:https://www.jellybeancreative.co.uk/event/nutrition-hydration-week-2025/
CATEGORIES:National Day / Week
END:VEVENT
BEGIN:VEVENT
DTSTART;VALUE=DATE:20250318
DTEND;VALUE=DATE:20250319
DTSTAMP:20260420T011850
CREATED:20250228T111809Z
LAST-MODIFIED:20250228T111809Z
UID:28572-1742256000-1742342399@www.jellybeancreative.co.uk
SUMMARY:The Future of Meat
DESCRIPTION:
URL:https://www.jellybeancreative.co.uk/event/the-future-of-meat/
LOCATION:Webinar
CATEGORIES:Exhibitions and Conferences
END:VEVENT
BEGIN:VEVENT
DTSTART;VALUE=DATE:20250319
DTEND;VALUE=DATE:20250320
DTSTAMP:20260420T011850
CREATED:20241113T153648Z
LAST-MODIFIED:20241113T153648Z
UID:27812-1742342400-1742428799@www.jellybeancreative.co.uk
SUMMARY:The Convenience Awards
DESCRIPTION:
URL:https://www.jellybeancreative.co.uk/event/the-convenience-awards/
LOCATION:Victoria Warehouse\, Manchester\, United Kingdom
CATEGORIES:Awards / Dinners
END:VEVENT
BEGIN:VEVENT
DTSTART;VALUE=DATE:20250319
DTEND;VALUE=DATE:20250321
DTSTAMP:20260420T011850
CREATED:20241119T150003Z
LAST-MODIFIED:20241119T150003Z
UID:27910-1742342400-1742515199@www.jellybeancreative.co.uk
SUMMARY:Tourism & Travel Show 2025
DESCRIPTION:
URL:https://www.jellybeancreative.co.uk/event/tourism-travel-show-2025/
LOCATION:NEC\, Birmingham\, United Kingdom
CATEGORIES:Exhibitions and Conferences
END:VEVENT
BEGIN:VEVENT
DTSTART;VALUE=DATE:20250320
DTEND;VALUE=DATE:20250321
DTSTAMP:20260420T011850
CREATED:20241113T160350Z
LAST-MODIFIED:20241113T160350Z
UID:27820-1742428800-1742515199@www.jellybeancreative.co.uk
SUMMARY:Retail Week Awards 2025
DESCRIPTION:
URL:https://www.jellybeancreative.co.uk/event/retail-week-awards-2025/
LOCATION:Grosvenor House Hotel\, London\, United Kingdom
CATEGORIES:Awards / Dinners
END:VEVENT
BEGIN:VEVENT
DTSTART;VALUE=DATE:20250321
DTEND;VALUE=DATE:20250322
DTSTAMP:20260420T011850
CREATED:20241119T150322Z
LAST-MODIFIED:20241119T150322Z
UID:27912-1742515200-1742601599@www.jellybeancreative.co.uk
SUMMARY:Eat & Drink Festival 21 March - 6 April;
DESCRIPTION:
URL:https://www.jellybeancreative.co.uk/event/eat-drink-festival-21-march-6-april/
LOCATION:Olympia\, London
CATEGORIES:General Event
END:VEVENT
BEGIN:VEVENT
DTSTART;VALUE=DATE:20250322
DTEND;VALUE=DATE:20250324
DTSTAMP:20260420T011850
CREATED:20250313T154052Z
LAST-MODIFIED:20250313T154052Z
UID:28656-1742601600-1742774399@www.jellybeancreative.co.uk
SUMMARY:Royal Bath & West Food & Drink Festival 2025
DESCRIPTION:
URL:https://www.jellybeancreative.co.uk/event/royal-bath-west-food-drink-festival-2025/
LOCATION:Bath & West Showground\, United Kingdom
CATEGORIES:General Event
END:VEVENT
BEGIN:VEVENT
DTSTART;VALUE=DATE:20250326
DTEND;VALUE=DATE:20250327
DTSTAMP:20260420T011850
CREATED:20250228T105448Z
LAST-MODIFIED:20250228T105534Z
UID:28560-1742947200-1743033599@www.jellybeancreative.co.uk
SUMMARY:The Publican Awards 2025
DESCRIPTION:
URL:https://www.jellybeancreative.co.uk/event/the-publican-awards-2025/
LOCATION:Battersea Evolution\, London\, United Kingdom
CATEGORIES:Awards / Dinners
END:VEVENT
END:VCALENDAR