BEGIN:VCALENDAR
VERSION:2.0
PRODID:-//Jellybean Creative Solutions - ECPv6.15.20//NONSGML v1.0//EN
CALSCALE:GREGORIAN
METHOD:PUBLISH
X-WR-CALNAME:Jellybean Creative Solutions
X-ORIGINAL-URL:https://www.jellybeancreative.co.uk
X-WR-CALDESC:Events for Jellybean Creative Solutions
REFRESH-INTERVAL;VALUE=DURATION:PT1H
X-Robots-Tag:noindex
X-PUBLISHED-TTL:PT1H
BEGIN:VTIMEZONE
TZID:Europe/London
BEGIN:DAYLIGHT
TZOFFSETFROM:+0000
TZOFFSETTO:+0100
TZNAME:BST
DTSTART:20230326T010000
END:DAYLIGHT
BEGIN:STANDARD
TZOFFSETFROM:+0100
TZOFFSETTO:+0000
TZNAME:GMT
DTSTART:20231029T010000
END:STANDARD
BEGIN:DAYLIGHT
TZOFFSETFROM:+0000
TZOFFSETTO:+0100
TZNAME:BST
DTSTART:20240331T010000
END:DAYLIGHT
BEGIN:STANDARD
TZOFFSETFROM:+0100
TZOFFSETTO:+0000
TZNAME:GMT
DTSTART:20241027T010000
END:STANDARD
BEGIN:DAYLIGHT
TZOFFSETFROM:+0000
TZOFFSETTO:+0100
TZNAME:BST
DTSTART:20250330T010000
END:DAYLIGHT
BEGIN:STANDARD
TZOFFSETFROM:+0100
TZOFFSETTO:+0000
TZNAME:GMT
DTSTART:20251026T010000
END:STANDARD
BEGIN:DAYLIGHT
TZOFFSETFROM:+0000
TZOFFSETTO:+0100
TZNAME:BST
DTSTART:20260329T010000
END:DAYLIGHT
BEGIN:STANDARD
TZOFFSETFROM:+0100
TZOFFSETTO:+0000
TZNAME:GMT
DTSTART:20261025T010000
END:STANDARD
END:VTIMEZONE
BEGIN:VEVENT
DTSTART;VALUE=DATE:20250101
DTEND;VALUE=DATE:20250102
DTSTAMP:20260422T010219
CREATED:20241114T142409Z
LAST-MODIFIED:20241114T142409Z
UID:27876-1735689600-1735775999@www.jellybeancreative.co.uk
SUMMARY:Veganuary 2025
DESCRIPTION:
URL:https://www.jellybeancreative.co.uk/event/veganuary-2025/
CATEGORIES:General Event
END:VEVENT
BEGIN:VEVENT
DTSTART;TZID=Europe/London:20241210T120000
DTEND;TZID=Europe/London:20241210T150000
DTSTAMP:20260422T010219
CREATED:20241113T151913Z
LAST-MODIFIED:20241113T151913Z
UID:27807-1733832000-1733842800@www.jellybeancreative.co.uk
SUMMARY:ACS Christmas Social
DESCRIPTION:
URL:https://www.jellybeancreative.co.uk/event/acs-christmas-social/
LOCATION:Hijingo Bingo\, Shoreditch\, London\, United Kingdom
CATEGORIES:General Event
END:VEVENT
BEGIN:VEVENT
DTSTART;VALUE=DATE:20241207
DTEND;VALUE=DATE:20241209
DTSTAMP:20260422T010219
CREATED:20240830T094319Z
LAST-MODIFIED:20240830T094319Z
UID:27368-1733529600-1733702399@www.jellybeancreative.co.uk
SUMMARY:London Vegan Fayre 2024
DESCRIPTION:
URL:https://www.jellybeancreative.co.uk/event/london-vegan-fayre-2024/
LOCATION:Kensington Town Hall\, London\, United Kingdom
CATEGORIES:General Event
END:VEVENT
BEGIN:VEVENT
DTSTART;VALUE=DATE:20241205
DTEND;VALUE=DATE:20241206
DTSTAMP:20260422T010219
CREATED:20241114T122221Z
LAST-MODIFIED:20241114T122221Z
UID:27857-1733356800-1733443199@www.jellybeancreative.co.uk
SUMMARY:Sainsbury's Big Bash
DESCRIPTION:
URL:https://www.jellybeancreative.co.uk/event/sainsburys-big-bash/
LOCATION:Evolution London\, Chelsea Bridge\, London\, United Kingdom
CATEGORIES:General Event
END:VEVENT
BEGIN:VEVENT
DTSTART;TZID=Europe/London:20241203T180000
DTEND;TZID=Europe/London:20241203T203000
DTSTAMP:20260422T010219
CREATED:20241114T103008Z
LAST-MODIFIED:20241114T103008Z
UID:27845-1733248800-1733257800@www.jellybeancreative.co.uk
SUMMARY:CGOC - Christmas Canapes & Festive Fireside Chats
DESCRIPTION:
URL:https://www.jellybeancreative.co.uk/event/cgoc-christmas-canapes-festive-fireside-chats/
LOCATION:West London College\, London\, United Kingdom
CATEGORIES:General Event
END:VEVENT
BEGIN:VEVENT
DTSTART;VALUE=DATE:20241202
DTEND;VALUE=DATE:20241203
DTSTAMP:20260422T010219
CREATED:20240918T140617Z
LAST-MODIFIED:20240918T140617Z
UID:27424-1733097600-1733183999@www.jellybeancreative.co.uk
SUMMARY:Arena Christmas Event
DESCRIPTION:
URL:https://www.jellybeancreative.co.uk/event/arena-christmas-event-2/
LOCATION:Mandarin Oriental Hyde Park\, London\, United Kingdom
CATEGORIES:General Event
END:VEVENT
BEGIN:VEVENT
DTSTART;VALUE=DATE:20241121
DTEND;VALUE=DATE:20241125
DTSTAMP:20260422T010219
CREATED:20240829T111355Z
LAST-MODIFIED:20240829T111355Z
UID:27299-1732147200-1732492799@www.jellybeancreative.co.uk
SUMMARY:Good Food Winter Show 2024
DESCRIPTION:
URL:https://www.jellybeancreative.co.uk/event/good-food-winter-show-2024/
LOCATION:Goodwood Racecourse\, Chichester
CATEGORIES:General Event
END:VEVENT
BEGIN:VEVENT
DTSTART;VALUE=DATE:20241120
DTEND;VALUE=DATE:20241121
DTSTAMP:20260422T010219
CREATED:20241114T122022Z
LAST-MODIFIED:20241114T122022Z
UID:27855-1732060800-1732147199@www.jellybeancreative.co.uk
SUMMARY:Tesco Glitz Ball
DESCRIPTION:
URL:https://www.jellybeancreative.co.uk/event/tesco-glitz-ball/
LOCATION:Evolution London\, Chelsea Bridge\, London\, United Kingdom
CATEGORIES:General Event
END:VEVENT
BEGIN:VEVENT
DTSTART;VALUE=DATE:20241101
DTEND;VALUE=DATE:20241102
DTSTAMP:20260422T010219
CREATED:20240829T110154Z
LAST-MODIFIED:20240829T110154Z
UID:27297-1730419200-1730505599@www.jellybeancreative.co.uk
SUMMARY:Grocery Aid Sporting Lunch
DESCRIPTION:
URL:https://www.jellybeancreative.co.uk/event/grocery-aid-sporting-lunch-2/
LOCATION:Marriott Grosvenor Square Hotel\, London\, United Kingdom
CATEGORIES:General Event
END:VEVENT
BEGIN:VEVENT
DTSTART;TZID=Europe/London:20241028T183000
DTEND;TZID=Europe/London:20241028T233000
DTSTAMP:20260422T010219
CREATED:20240830T080057Z
LAST-MODIFIED:20240830T080057Z
UID:27333-1730140200-1730158200@www.jellybeancreative.co.uk
SUMMARY:HA Winter Chef's Dinner
DESCRIPTION:
URL:https://www.jellybeancreative.co.uk/event/ha-winter-chefs-dinner/
LOCATION:Raffles London at The OWO\, London\, United Kingdom
CATEGORIES:General Event
END:VEVENT
BEGIN:VEVENT
DTSTART;VALUE=DATE:20241017
DTEND;VALUE=DATE:20241018
DTSTAMP:20260422T010219
CREATED:20240829T110039Z
LAST-MODIFIED:20240829T110039Z
UID:27295-1729123200-1729209599@www.jellybeancreative.co.uk
SUMMARY:Asda Ticked Pink Gala Ball
DESCRIPTION:
URL:https://www.jellybeancreative.co.uk/event/asda-ticked-pink-gala-ball/
LOCATION:Yorkshire Event Centre\, Harrogate\, United Kingdom
CATEGORIES:General Event
END:VEVENT
BEGIN:VEVENT
DTSTART;VALUE=DATE:20241010
DTEND;VALUE=DATE:20241011
DTSTAMP:20260422T010219
CREATED:20240425T150128Z
LAST-MODIFIED:20241004T084639Z
UID:26885-1728518400-1728604799@www.jellybeancreative.co.uk
SUMMARY:Hospitality Action Walk for Wellbeing 10 - 27 Oct 2024
DESCRIPTION:
URL:https://www.jellybeancreative.co.uk/event/hospitality-action-walk-for-wellbeing-10-27-oct-2024/
LOCATION:N/A
CATEGORIES:General Event
END:VEVENT
BEGIN:VEVENT
DTSTART;VALUE=DATE:20241002
DTEND;VALUE=DATE:20241003
DTSTAMP:20260422T010219
CREATED:20240129T164020Z
LAST-MODIFIED:20240129T164020Z
UID:26530-1727827200-1727913599@www.jellybeancreative.co.uk
SUMMARY:The Dairy Show
DESCRIPTION:
URL:https://www.jellybeancreative.co.uk/event/the-dairy-show-3/
LOCATION:Bath & West Showground\, United Kingdom
CATEGORIES:General Event
END:VEVENT
BEGIN:VEVENT
DTSTART;TZID=Europe/London:20240930T183000
DTEND;TZID=Europe/London:20240930T230000
DTSTAMP:20260422T010219
CREATED:20240829T125939Z
LAST-MODIFIED:20240829T125939Z
UID:27329-1727721000-1727737200@www.jellybeancreative.co.uk
SUMMARY:HA Chef's Dinner at Rudding Park\, Harrogate
DESCRIPTION:
URL:https://www.jellybeancreative.co.uk/event/ha-chefs-dinner-at-rudding-park-harrogate/
LOCATION:Rudding Park\, Harrogate
CATEGORIES:General Event
END:VEVENT
BEGIN:VEVENT
DTSTART;VALUE=DATE:20240926
DTEND;VALUE=DATE:20240927
DTSTAMP:20260422T010219
CREATED:20240830T083845Z
LAST-MODIFIED:20240830T083932Z
UID:27343-1727308800-1727395199@www.jellybeancreative.co.uk
SUMMARY:Staff Canteen Live at UCFF
DESCRIPTION:
URL:https://www.jellybeancreative.co.uk/event/staff-canteen-live-at-ucff/
LOCATION:Loddington Farm\, Maidstone\, United Kingdom
CATEGORIES:General Event
END:VEVENT
BEGIN:VEVENT
DTSTART;VALUE=DATE:20240926
DTEND;VALUE=DATE:20240927
DTSTAMP:20260422T010219
CREATED:20240830T081118Z
LAST-MODIFIED:20240830T081118Z
UID:27336-1727308800-1727395199@www.jellybeancreative.co.uk
SUMMARY:Universal Cookery & Food Festival
DESCRIPTION:
URL:https://www.jellybeancreative.co.uk/event/universal-cookery-food-festival/
LOCATION:Loddington Farm\, Maidstone\, United Kingdom
CATEGORIES:General Event
END:VEVENT
BEGIN:VEVENT
DTSTART;TZID=Europe/London:20240924T100000
DTEND;TZID=Europe/London:20240924T150000
DTSTAMP:20260422T010219
CREATED:20240830T104622Z
LAST-MODIFIED:20240830T104622Z
UID:27381-1727172000-1727190000@www.jellybeancreative.co.uk
SUMMARY:Birmingham Big Food & drink Show
DESCRIPTION:
URL:https://www.jellybeancreative.co.uk/event/birmingham-big-food-drink-show/
LOCATION:Grand Station\, Wolverhampton\, United Kingdom
CATEGORIES:General Event
END:VEVENT
BEGIN:VEVENT
DTSTART;VALUE=DATE:20240921
DTEND;VALUE=DATE:20240923
DTSTAMP:20260422T010219
CREATED:20240830T111040Z
LAST-MODIFIED:20240830T111040Z
UID:27393-1726876800-1727049599@www.jellybeancreative.co.uk
SUMMARY:Great British Food Festival Arley Hall
DESCRIPTION:
URL:https://www.jellybeancreative.co.uk/event/great-british-food-festival-arley-hall/
LOCATION:Arley Hall\, Cheshire\, United Kingdom
CATEGORIES:General Event
END:VEVENT
BEGIN:VEVENT
DTSTART;VALUE=DATE:20240920
DTEND;VALUE=DATE:20240921
DTSTAMP:20260422T010219
CREATED:20240621T111926Z
LAST-MODIFIED:20240621T111926Z
UID:27033-1726790400-1726876799@www.jellybeancreative.co.uk
SUMMARY:Grocery Aid Clay Pigeon Shoot
DESCRIPTION:
URL:https://www.jellybeancreative.co.uk/event/grocery-aid-clay-pigeon-shoot-3/
LOCATION:E J Churchill Group\, Lane End\, High Wycombe
CATEGORIES:General Event
END:VEVENT
BEGIN:VEVENT
DTSTART;VALUE=DATE:20240913
DTEND;VALUE=DATE:20240914
DTSTAMP:20260422T010219
CREATED:20240621T111748Z
LAST-MODIFIED:20240621T111748Z
UID:27030-1726185600-1726271999@www.jellybeancreative.co.uk
SUMMARY:Grocery Aid Northern Golf Day
DESCRIPTION:
URL:https://www.jellybeancreative.co.uk/event/grocery-aid-northern-golf-day/
LOCATION:High Gosforth Park Golf Club\, Newcastle
CATEGORIES:General Event
END:VEVENT
BEGIN:VEVENT
DTSTART;TZID=Europe/London:20240910T100000
DTEND;TZID=Europe/London:20240910T150000
DTSTAMP:20260422T010219
CREATED:20240830T104357Z
LAST-MODIFIED:20240830T104516Z
UID:27377-1725962400-1725980400@www.jellybeancreative.co.uk
SUMMARY:Nottingham Big Food & Drink Show
DESCRIPTION:
URL:https://www.jellybeancreative.co.uk/event/nottingham-bid-food-drink-show/
LOCATION:Goosedale\, Nottingham\, United Kingdom
CATEGORIES:General Event
END:VEVENT
BEGIN:VEVENT
DTSTART;VALUE=DATE:20240907
DTEND;VALUE=DATE:20240909
DTSTAMP:20260422T010219
CREATED:20240830T110916Z
LAST-MODIFIED:20240830T110916Z
UID:27390-1725667200-1725839999@www.jellybeancreative.co.uk
SUMMARY:Great British Food Festival\, Margram Park
DESCRIPTION:
URL:https://www.jellybeancreative.co.uk/event/great-british-food-festival-margram-park/
LOCATION:Margram Park\, South Wales\, United Kingdom
CATEGORIES:General Event
END:VEVENT
BEGIN:VEVENT
DTSTART;VALUE=DATE:20240906
DTEND;VALUE=DATE:20240909
DTSTAMP:20260422T010219
CREATED:20240529T114629Z
LAST-MODIFIED:20240529T114629Z
UID:26988-1725580800-1725839999@www.jellybeancreative.co.uk
SUMMARY:Foodies Festival Norwich
DESCRIPTION:
URL:https://www.jellybeancreative.co.uk/event/foodies-festival-norwich-3/
LOCATION:Earlham Park\, Norwich
CATEGORIES:General Event
END:VEVENT
BEGIN:VEVENT
DTSTART;VALUE=DATE:20240905
DTEND;VALUE=DATE:20240908
DTSTAMP:20260422T010219
CREATED:20240621T111148Z
LAST-MODIFIED:20241004T085641Z
UID:27026-1725494400-1725753599@www.jellybeancreative.co.uk
SUMMARY:Grocery Aid London to Brussels Bike Ride
DESCRIPTION:
URL:https://www.jellybeancreative.co.uk/event/grocery-aid-london-to-brussels-bike-ride/
LOCATION:N/A
CATEGORIES:General Event
END:VEVENT
BEGIN:VEVENT
DTSTART;VALUE=DATE:20240901
DTEND;VALUE=DATE:20240902
DTSTAMP:20260422T010219
CREATED:20240829T105248Z
LAST-MODIFIED:20240829T105248Z
UID:27290-1725148800-1725235199@www.jellybeancreative.co.uk
SUMMARY:London Hospitality Festival
DESCRIPTION:
URL:https://www.jellybeancreative.co.uk/event/london-hospitality-festival/
LOCATION:Barn Elms Sports Centre\, London\, United Kingdom
CATEGORIES:General Event
END:VEVENT
BEGIN:VEVENT
DTSTART;VALUE=DATE:20240830
DTEND;VALUE=DATE:20240902
DTSTAMP:20260422T010219
CREATED:20240529T114428Z
LAST-MODIFIED:20240529T114525Z
UID:26985-1724976000-1725235199@www.jellybeancreative.co.uk
SUMMARY:Foodies Festival Guildford
DESCRIPTION:
URL:https://www.jellybeancreative.co.uk/event/foodies-festival-guildford/
LOCATION:Stoke Park Guildford
CATEGORIES:General Event
END:VEVENT
BEGIN:VEVENT
DTSTART;VALUE=DATE:20240824
DTEND;VALUE=DATE:20240827
DTSTAMP:20260422T010219
CREATED:20240529T114318Z
LAST-MODIFIED:20240529T114318Z
UID:26983-1724457600-1724716799@www.jellybeancreative.co.uk
SUMMARY:Foodies Festival Oxford
DESCRIPTION:
URL:https://www.jellybeancreative.co.uk/event/foodies-festival-oxford-3/
LOCATION:South Parks\, Oxford\, United Kingdom
CATEGORIES:General Event
END:VEVENT
BEGIN:VEVENT
DTSTART;VALUE=DATE:20240824
DTEND;VALUE=DATE:20240825
DTSTAMP:20260422T010219
CREATED:20240130T120012Z
LAST-MODIFIED:20240130T120012Z
UID:26549-1724457600-1724543999@www.jellybeancreative.co.uk
SUMMARY:Bristol Vegan Summer Fayre
DESCRIPTION:
URL:https://www.jellybeancreative.co.uk/event/bristol-vegan-summer-fayre/
LOCATION:Document\, St. Jude's\, Bristol\, United Kingdom
CATEGORIES:General Event
END:VEVENT
BEGIN:VEVENT
DTSTART;VALUE=DATE:20240809
DTEND;VALUE=DATE:20240812
DTSTAMP:20260422T010219
CREATED:20240529T114212Z
LAST-MODIFIED:20240529T114212Z
UID:26981-1723161600-1723420799@www.jellybeancreative.co.uk
SUMMARY:Foodies Festival Glasgow
DESCRIPTION:
URL:https://www.jellybeancreative.co.uk/event/foodies-festival-glasgow-3/
LOCATION:Rouken Glen Park\, Glasgow
CATEGORIES:General Event
END:VEVENT
BEGIN:VEVENT
DTSTART;VALUE=DATE:20240809
DTEND;VALUE=DATE:20240811
DTSTAMP:20260422T010219
CREATED:20240529T144534Z
LAST-MODIFIED:20240529T144534Z
UID:26992-1723161600-1723334399@www.jellybeancreative.co.uk
SUMMARY:London Craft Beer Festival 2024
DESCRIPTION:
URL:https://www.jellybeancreative.co.uk/event/london-craft-beer-festival-2024/
LOCATION:Tobacco Dock\, London\, United Kingdom
CATEGORIES:General Event
END:VEVENT
END:VCALENDAR