BEGIN:VCALENDAR
VERSION:2.0
PRODID:-//Jellybean Creative Solutions - ECPv6.15.20//NONSGML v1.0//EN
CALSCALE:GREGORIAN
METHOD:PUBLISH
X-WR-CALNAME:Jellybean Creative Solutions
X-ORIGINAL-URL:https://www.jellybeancreative.co.uk
X-WR-CALDESC:Events for Jellybean Creative Solutions
REFRESH-INTERVAL;VALUE=DURATION:PT1H
X-Robots-Tag:noindex
X-PUBLISHED-TTL:PT1H
BEGIN:VTIMEZONE
TZID:Europe/London
BEGIN:DAYLIGHT
TZOFFSETFROM:+0000
TZOFFSETTO:+0100
TZNAME:BST
DTSTART:20230326T010000
END:DAYLIGHT
BEGIN:STANDARD
TZOFFSETFROM:+0100
TZOFFSETTO:+0000
TZNAME:GMT
DTSTART:20231029T010000
END:STANDARD
BEGIN:DAYLIGHT
TZOFFSETFROM:+0000
TZOFFSETTO:+0100
TZNAME:BST
DTSTART:20240331T010000
END:DAYLIGHT
BEGIN:STANDARD
TZOFFSETFROM:+0100
TZOFFSETTO:+0000
TZNAME:GMT
DTSTART:20241027T010000
END:STANDARD
BEGIN:DAYLIGHT
TZOFFSETFROM:+0000
TZOFFSETTO:+0100
TZNAME:BST
DTSTART:20250330T010000
END:DAYLIGHT
BEGIN:STANDARD
TZOFFSETFROM:+0100
TZOFFSETTO:+0000
TZNAME:GMT
DTSTART:20251026T010000
END:STANDARD
BEGIN:DAYLIGHT
TZOFFSETFROM:+0000
TZOFFSETTO:+0100
TZNAME:BST
DTSTART:20260329T010000
END:DAYLIGHT
BEGIN:STANDARD
TZOFFSETFROM:+0100
TZOFFSETTO:+0000
TZNAME:GMT
DTSTART:20261025T010000
END:STANDARD
END:VTIMEZONE
BEGIN:VEVENT
DTSTART;VALUE=DATE:20250617
DTEND;VALUE=DATE:20250618
DTSTAMP:20260421T214205
CREATED:20241114T104700Z
LAST-MODIFIED:20241114T104700Z
UID:27853-1750118400-1750204799@www.jellybeancreative.co.uk
SUMMARY:BII Summer Event
DESCRIPTION:
URL:https://www.jellybeancreative.co.uk/event/bii-summer-event/
LOCATION:Artillery Garden at HAC\, London\, United Kingdom
CATEGORIES:General Event
END:VEVENT
BEGIN:VEVENT
DTSTART;VALUE=DATE:20250614
DTEND;VALUE=DATE:20250616
DTSTAMP:20260421T214205
CREATED:20250530T113356Z
LAST-MODIFIED:20250530T113356Z
UID:28976-1749859200-1750031999@www.jellybeancreative.co.uk
SUMMARY:Great British Food Festival Holdenby House
DESCRIPTION:
URL:https://www.jellybeancreative.co.uk/event/great-british-food-festival-holdenby-house/
LOCATION:Holdenby House\, Northants
CATEGORIES:General Event
END:VEVENT
BEGIN:VEVENT
DTSTART;VALUE=DATE:20250612
DTEND;VALUE=DATE:20250616
DTSTAMP:20260421T214205
CREATED:20250530T111814Z
LAST-MODIFIED:20250530T111814Z
UID:28970-1749686400-1750031999@www.jellybeancreative.co.uk
SUMMARY:BBC Good Food Summer Show
DESCRIPTION:
URL:https://www.jellybeancreative.co.uk/event/bbc-good-food-summer-show/
LOCATION:NEC\, Birmingham\, United Kingdom
CATEGORIES:General Event
END:VEVENT
BEGIN:VEVENT
DTSTART;VALUE=DATE:20250606
DTEND;VALUE=DATE:20250609
DTSTAMP:20260421T214205
CREATED:20250530T102638Z
LAST-MODIFIED:20250530T102638Z
UID:28946-1749168000-1749427199@www.jellybeancreative.co.uk
SUMMARY:Foodies Festival Guildford
DESCRIPTION:
URL:https://www.jellybeancreative.co.uk/event/foodies-festival-guildford-2/
LOCATION:Stoke Park Guildford
CATEGORIES:General Event
END:VEVENT
BEGIN:VEVENT
DTSTART;VALUE=DATE:20250601
DTEND;VALUE=DATE:20250602
DTSTAMP:20260421T214205
CREATED:20250228T154111Z
LAST-MODIFIED:20250228T154111Z
UID:28581-1748736000-1748822399@www.jellybeancreative.co.uk
SUMMARY:HA South West Polo Day
DESCRIPTION:
URL:https://www.jellybeancreative.co.uk/event/ha-south-west-polo-day-2/
LOCATION:Beaufort Polo Club\, Gloucestershire\, United Kingdom
CATEGORIES:General Event
END:VEVENT
BEGIN:VEVENT
DTSTART;VALUE=DATE:20250529
DTEND;VALUE=DATE:20250601
DTSTAMP:20260421T214205
CREATED:20250313T154219Z
LAST-MODIFIED:20250313T154219Z
UID:28658-1748476800-1748735999@www.jellybeancreative.co.uk
SUMMARY:Royal Bath & West Show
DESCRIPTION:
URL:https://www.jellybeancreative.co.uk/event/royal-bath-west-show/
LOCATION:Bath & West Showground\, United Kingdom
CATEGORIES:General Event
END:VEVENT
BEGIN:VEVENT
DTSTART;TZID=Europe/London:20250528T183000
DTEND;TZID=Europe/London:20250528T230000
DTSTAMP:20260421T214205
CREATED:20250228T153937Z
LAST-MODIFIED:20250228T153951Z
UID:28578-1748457000-1748473200@www.jellybeancreative.co.uk
SUMMARY:HA - Bike to Care Chefs' Dinner
DESCRIPTION:
URL:https://www.jellybeancreative.co.uk/event/bike-to-care-chefs-dinner/
LOCATION:Nobu Hotel\, London
CATEGORIES:General Event
END:VEVENT
BEGIN:VEVENT
DTSTART;VALUE=DATE:20250515
DTEND;VALUE=DATE:20250516
DTSTAMP:20260421T214205
CREATED:20241114T122815Z
LAST-MODIFIED:20241114T122815Z
UID:27867-1747267200-1747353599@www.jellybeancreative.co.uk
SUMMARY:Waitrose & Partners Garden Party
DESCRIPTION:
URL:https://www.jellybeancreative.co.uk/event/waitrose-partners-garden-party/
LOCATION:Henley-on-Thames\, United Kingdom
CATEGORIES:General Event
END:VEVENT
BEGIN:VEVENT
DTSTART;VALUE=DATE:20250510
DTEND;VALUE=DATE:20250513
DTSTAMP:20260421T214205
CREATED:20250228T154620Z
LAST-MODIFIED:20250228T154620Z
UID:28586-1746835200-1747094399@www.jellybeancreative.co.uk
SUMMARY:Springboard Three Peaks Challenge
DESCRIPTION:
URL:https://www.jellybeancreative.co.uk/event/springboard-three-peaks-challenge/
CATEGORIES:General Event
END:VEVENT
BEGIN:VEVENT
DTSTART;VALUE=DATE:20250508
DTEND;VALUE=DATE:20250509
DTSTAMP:20260421T214205
CREATED:20250220T151707Z
LAST-MODIFIED:20250220T151707Z
UID:28464-1746662400-1746748799@www.jellybeancreative.co.uk
SUMMARY:Foodservice Football Charity Match
DESCRIPTION:
URL:https://www.jellybeancreative.co.uk/event/foodservice-football-charity-match/
LOCATION:Cray Wanderers FC\, Chislehurst
CATEGORIES:General Event
END:VEVENT
BEGIN:VEVENT
DTSTART;TZID=Europe/London:20250501T090000
DTEND;TZID=Europe/London:20250501T150000
DTSTAMP:20260421T214205
CREATED:20250227T130416Z
LAST-MODIFIED:20250227T130416Z
UID:28552-1746090000-1746111600@www.jellybeancreative.co.uk
SUMMARY:ACS Raj Aggarwal Golf day
DESCRIPTION:
URL:https://www.jellybeancreative.co.uk/event/acs-raj-aggarwal-golf-day/
CATEGORIES:General Event
END:VEVENT
BEGIN:VEVENT
DTSTART;VALUE=DATE:20250501
DTEND;VALUE=DATE:20250502
DTSTAMP:20260421T214205
CREATED:20241114T122554Z
LAST-MODIFIED:20241114T122554Z
UID:27863-1746057600-1746143999@www.jellybeancreative.co.uk
SUMMARY:Grocery Aid - Co-op Windermere Row
DESCRIPTION:
URL:https://www.jellybeancreative.co.uk/event/grocery-aid-co-op-windermere-row/
LOCATION:Lake Windermere\, Lake District\, United Kingdom
CATEGORIES:General Event
END:VEVENT
BEGIN:VEVENT
DTSTART;VALUE=DATE:20250412
DTEND;VALUE=DATE:20250413
DTSTAMP:20260421T214205
CREATED:20250313T155410Z
LAST-MODIFIED:20250313T155410Z
UID:28660-1744416000-1744502399@www.jellybeancreative.co.uk
SUMMARY:Bristol Vegan Fayre 25
DESCRIPTION:
URL:https://www.jellybeancreative.co.uk/event/bristol-vegan-fayre-25/
LOCATION:Document\, St. Jude's\, Bristol\, United Kingdom
CATEGORIES:General Event
END:VEVENT
BEGIN:VEVENT
DTSTART;VALUE=DATE:20250410
DTEND;VALUE=DATE:20250411
DTSTAMP:20260421T214205
CREATED:20241114T122431Z
LAST-MODIFIED:20241114T122455Z
UID:27861-1744243200-1744329599@www.jellybeancreative.co.uk
SUMMARY:Grocery Aid - Morrissons Big Night Out
DESCRIPTION:
URL:https://www.jellybeancreative.co.uk/event/grocery-aid-morrissons-big-night-out/
LOCATION:Yorkshire Event Centre\, Harrogate\, United Kingdom
CATEGORIES:General Event
END:VEVENT
BEGIN:VEVENT
DTSTART;VALUE=DATE:20250322
DTEND;VALUE=DATE:20250324
DTSTAMP:20260421T214205
CREATED:20250313T154052Z
LAST-MODIFIED:20250313T154052Z
UID:28656-1742601600-1742774399@www.jellybeancreative.co.uk
SUMMARY:Royal Bath & West Food & Drink Festival 2025
DESCRIPTION:
URL:https://www.jellybeancreative.co.uk/event/royal-bath-west-food-drink-festival-2025/
LOCATION:Bath & West Showground\, United Kingdom
CATEGORIES:General Event
END:VEVENT
BEGIN:VEVENT
DTSTART;VALUE=DATE:20250321
DTEND;VALUE=DATE:20250322
DTSTAMP:20260421T214205
CREATED:20241119T150322Z
LAST-MODIFIED:20241119T150322Z
UID:27912-1742515200-1742601599@www.jellybeancreative.co.uk
SUMMARY:Eat & Drink Festival 21 March - 6 April;
DESCRIPTION:
URL:https://www.jellybeancreative.co.uk/event/eat-drink-festival-21-march-6-april/
LOCATION:Olympia\, London
CATEGORIES:General Event
END:VEVENT
BEGIN:VEVENT
DTSTART;VALUE=DATE:20250306
DTEND;VALUE=DATE:20250307
DTSTAMP:20260421T214205
CREATED:20241114T122319Z
LAST-MODIFIED:20241114T122319Z
UID:27859-1741219200-1741305599@www.jellybeancreative.co.uk
SUMMARY:Grocery Aid Ball
DESCRIPTION:
URL:https://www.jellybeancreative.co.uk/event/grocery-aid-ball/
LOCATION:Grosvenor House Hotel\, London\, United Kingdom
CATEGORIES:General Event
END:VEVENT
BEGIN:VEVENT
DTSTART;TZID=Europe/London:20250227T183000
DTEND;TZID=Europe/London:20250227T233000
DTSTAMP:20260421T214205
CREATED:20241114T092335Z
LAST-MODIFIED:20241114T092335Z
UID:27840-1740681000-1740699000@www.jellybeancreative.co.uk
SUMMARY:HA - The Great Coast-to-Coast Dinner
DESCRIPTION:
URL:https://www.jellybeancreative.co.uk/event/ha-the-great-coast-to-coast-dinner/
LOCATION:The Alverton Hotel\, Truro\, United Kingdom
CATEGORIES:General Event
END:VEVENT
BEGIN:VEVENT
DTSTART;VALUE=DATE:20250204
DTEND;VALUE=DATE:20250206
DTSTAMP:20260421T214205
CREATED:20241114T124458Z
LAST-MODIFIED:20241114T124458Z
UID:27872-1738627200-1738799999@www.jellybeancreative.co.uk
SUMMARY:The Source Trade Show
DESCRIPTION:
URL:https://www.jellybeancreative.co.uk/event/the-source-trade-show/
LOCATION:Westpoint Exhibition Centre\, Exeter\, United Kingdom
CATEGORIES:General Event
END:VEVENT
BEGIN:VEVENT
DTSTART;VALUE=DATE:20250110
DTEND;VALUE=DATE:20250111
DTSTAMP:20260421T214205
CREATED:20241114T145256Z
LAST-MODIFIED:20241114T145256Z
UID:27880-1736467200-1736553599@www.jellybeancreative.co.uk
SUMMARY:Hospitality Rocks
DESCRIPTION:
URL:https://www.jellybeancreative.co.uk/event/hospitality-rocks/
LOCATION:Evolution London\, Chelsea Bridge\, London\, United Kingdom
CATEGORIES:General Event
END:VEVENT
BEGIN:VEVENT
DTSTART;VALUE=DATE:20250101
DTEND;VALUE=DATE:20250102
DTSTAMP:20260421T214205
CREATED:20241114T142409Z
LAST-MODIFIED:20241114T142409Z
UID:27876-1735689600-1735775999@www.jellybeancreative.co.uk
SUMMARY:Veganuary 2025
DESCRIPTION:
URL:https://www.jellybeancreative.co.uk/event/veganuary-2025/
CATEGORIES:General Event
END:VEVENT
BEGIN:VEVENT
DTSTART;TZID=Europe/London:20241210T120000
DTEND;TZID=Europe/London:20241210T150000
DTSTAMP:20260421T214205
CREATED:20241113T151913Z
LAST-MODIFIED:20241113T151913Z
UID:27807-1733832000-1733842800@www.jellybeancreative.co.uk
SUMMARY:ACS Christmas Social
DESCRIPTION:
URL:https://www.jellybeancreative.co.uk/event/acs-christmas-social/
LOCATION:Hijingo Bingo\, Shoreditch\, London\, United Kingdom
CATEGORIES:General Event
END:VEVENT
BEGIN:VEVENT
DTSTART;VALUE=DATE:20241207
DTEND;VALUE=DATE:20241209
DTSTAMP:20260421T214205
CREATED:20240830T094319Z
LAST-MODIFIED:20240830T094319Z
UID:27368-1733529600-1733702399@www.jellybeancreative.co.uk
SUMMARY:London Vegan Fayre 2024
DESCRIPTION:
URL:https://www.jellybeancreative.co.uk/event/london-vegan-fayre-2024/
LOCATION:Kensington Town Hall\, London\, United Kingdom
CATEGORIES:General Event
END:VEVENT
BEGIN:VEVENT
DTSTART;VALUE=DATE:20241205
DTEND;VALUE=DATE:20241206
DTSTAMP:20260421T214205
CREATED:20241114T122221Z
LAST-MODIFIED:20241114T122221Z
UID:27857-1733356800-1733443199@www.jellybeancreative.co.uk
SUMMARY:Sainsbury's Big Bash
DESCRIPTION:
URL:https://www.jellybeancreative.co.uk/event/sainsburys-big-bash/
LOCATION:Evolution London\, Chelsea Bridge\, London\, United Kingdom
CATEGORIES:General Event
END:VEVENT
BEGIN:VEVENT
DTSTART;TZID=Europe/London:20241203T180000
DTEND;TZID=Europe/London:20241203T203000
DTSTAMP:20260421T214205
CREATED:20241114T103008Z
LAST-MODIFIED:20241114T103008Z
UID:27845-1733248800-1733257800@www.jellybeancreative.co.uk
SUMMARY:CGOC - Christmas Canapes & Festive Fireside Chats
DESCRIPTION:
URL:https://www.jellybeancreative.co.uk/event/cgoc-christmas-canapes-festive-fireside-chats/
LOCATION:West London College\, London\, United Kingdom
CATEGORIES:General Event
END:VEVENT
BEGIN:VEVENT
DTSTART;VALUE=DATE:20241202
DTEND;VALUE=DATE:20241203
DTSTAMP:20260421T214205
CREATED:20240918T140617Z
LAST-MODIFIED:20240918T140617Z
UID:27424-1733097600-1733183999@www.jellybeancreative.co.uk
SUMMARY:Arena Christmas Event
DESCRIPTION:
URL:https://www.jellybeancreative.co.uk/event/arena-christmas-event-2/
LOCATION:Mandarin Oriental Hyde Park\, London\, United Kingdom
CATEGORIES:General Event
END:VEVENT
BEGIN:VEVENT
DTSTART;VALUE=DATE:20241121
DTEND;VALUE=DATE:20241125
DTSTAMP:20260421T214205
CREATED:20240829T111355Z
LAST-MODIFIED:20240829T111355Z
UID:27299-1732147200-1732492799@www.jellybeancreative.co.uk
SUMMARY:Good Food Winter Show 2024
DESCRIPTION:
URL:https://www.jellybeancreative.co.uk/event/good-food-winter-show-2024/
LOCATION:Goodwood Racecourse\, Chichester
CATEGORIES:General Event
END:VEVENT
BEGIN:VEVENT
DTSTART;VALUE=DATE:20241120
DTEND;VALUE=DATE:20241121
DTSTAMP:20260421T214205
CREATED:20241114T122022Z
LAST-MODIFIED:20241114T122022Z
UID:27855-1732060800-1732147199@www.jellybeancreative.co.uk
SUMMARY:Tesco Glitz Ball
DESCRIPTION:
URL:https://www.jellybeancreative.co.uk/event/tesco-glitz-ball/
LOCATION:Evolution London\, Chelsea Bridge\, London\, United Kingdom
CATEGORIES:General Event
END:VEVENT
BEGIN:VEVENT
DTSTART;VALUE=DATE:20241101
DTEND;VALUE=DATE:20241102
DTSTAMP:20260421T214205
CREATED:20240829T110154Z
LAST-MODIFIED:20240829T110154Z
UID:27297-1730419200-1730505599@www.jellybeancreative.co.uk
SUMMARY:Grocery Aid Sporting Lunch
DESCRIPTION:
URL:https://www.jellybeancreative.co.uk/event/grocery-aid-sporting-lunch-2/
LOCATION:Marriott Grosvenor Square Hotel\, London\, United Kingdom
CATEGORIES:General Event
END:VEVENT
BEGIN:VEVENT
DTSTART;TZID=Europe/London:20241028T183000
DTEND;TZID=Europe/London:20241028T233000
DTSTAMP:20260421T214205
CREATED:20240830T080057Z
LAST-MODIFIED:20240830T080057Z
UID:27333-1730140200-1730158200@www.jellybeancreative.co.uk
SUMMARY:HA Winter Chef's Dinner
DESCRIPTION:
URL:https://www.jellybeancreative.co.uk/event/ha-winter-chefs-dinner/
LOCATION:Raffles London at The OWO\, London\, United Kingdom
CATEGORIES:General Event
END:VEVENT
END:VCALENDAR