BEGIN:VCALENDAR
VERSION:2.0
PRODID:-//Jellybean Creative Solutions - ECPv6.15.20//NONSGML v1.0//EN
CALSCALE:GREGORIAN
METHOD:PUBLISH
X-WR-CALNAME:Jellybean Creative Solutions
X-ORIGINAL-URL:https://www.jellybeancreative.co.uk
X-WR-CALDESC:Events for Jellybean Creative Solutions
REFRESH-INTERVAL;VALUE=DURATION:PT1H
X-Robots-Tag:noindex
X-PUBLISHED-TTL:PT1H
BEGIN:VTIMEZONE
TZID:Europe/London
BEGIN:DAYLIGHT
TZOFFSETFROM:+0000
TZOFFSETTO:+0100
TZNAME:BST
DTSTART:20240331T010000
END:DAYLIGHT
BEGIN:STANDARD
TZOFFSETFROM:+0100
TZOFFSETTO:+0000
TZNAME:GMT
DTSTART:20241027T010000
END:STANDARD
BEGIN:DAYLIGHT
TZOFFSETFROM:+0000
TZOFFSETTO:+0100
TZNAME:BST
DTSTART:20250330T010000
END:DAYLIGHT
BEGIN:STANDARD
TZOFFSETFROM:+0100
TZOFFSETTO:+0000
TZNAME:GMT
DTSTART:20251026T010000
END:STANDARD
BEGIN:DAYLIGHT
TZOFFSETFROM:+0000
TZOFFSETTO:+0100
TZNAME:BST
DTSTART:20260329T010000
END:DAYLIGHT
BEGIN:STANDARD
TZOFFSETFROM:+0100
TZOFFSETTO:+0000
TZNAME:GMT
DTSTART:20261025T010000
END:STANDARD
END:VTIMEZONE
BEGIN:VEVENT
DTSTART;VALUE=DATE:20250805
DTEND;VALUE=DATE:20250810
DTSTAMP:20260421T184658
CREATED:20250610T144453Z
LAST-MODIFIED:20250610T144453Z
UID:29053-1754352000-1754783999@www.jellybeancreative.co.uk
SUMMARY:Great British Beer Festival
DESCRIPTION:
URL:https://www.jellybeancreative.co.uk/event/great-british-beer-festival/
LOCATION:NEC\, Birmingham\, United Kingdom
CATEGORIES:General Event
END:VEVENT
BEGIN:VEVENT
DTSTART;VALUE=DATE:20250802
DTEND;VALUE=DATE:20250804
DTSTAMP:20260421T184658
CREATED:20250530T114021Z
LAST-MODIFIED:20250530T114021Z
UID:28990-1754092800-1754265599@www.jellybeancreative.co.uk
SUMMARY:Great British Food Festival Lydiard Park
DESCRIPTION:
URL:https://www.jellybeancreative.co.uk/event/great-british-food-festival-lydiard-park/
LOCATION:Lydiard Park\, Wiltshire\, United Kingdom
CATEGORIES:General Event
END:VEVENT
BEGIN:VEVENT
DTSTART;VALUE=DATE:20250801
DTEND;VALUE=DATE:20250804
DTSTAMP:20260421T184658
CREATED:20250530T103318Z
LAST-MODIFIED:20250530T103318Z
UID:28960-1754006400-1754265599@www.jellybeancreative.co.uk
SUMMARY:Foodies Festival Edinburgh
DESCRIPTION:
URL:https://www.jellybeancreative.co.uk/event/foodies-festival-edinburgh/
LOCATION:Inverleith Park\, Edinburgh\, United Kingdom
CATEGORIES:General Event
END:VEVENT
BEGIN:VEVENT
DTSTART;VALUE=DATE:20250726
DTEND;VALUE=DATE:20250728
DTSTAMP:20260421T184658
CREATED:20250530T113912Z
LAST-MODIFIED:20250530T113912Z
UID:28987-1753488000-1753660799@www.jellybeancreative.co.uk
SUMMARY:Great British Food Festival Weston Park
DESCRIPTION:
URL:https://www.jellybeancreative.co.uk/event/great-british-food-festival-weston-park/
LOCATION:Weston Park\, Shropshire\, United Kingdom
CATEGORIES:General Event
END:VEVENT
BEGIN:VEVENT
DTSTART;VALUE=DATE:20250719
DTEND;VALUE=DATE:20250721
DTSTAMP:20260421T184658
CREATED:20250530T113752Z
LAST-MODIFIED:20250530T113752Z
UID:28984-1752883200-1753055999@www.jellybeancreative.co.uk
SUMMARY:Great British Food Festival Knebworth
DESCRIPTION:
URL:https://www.jellybeancreative.co.uk/event/great-british-food-festival-knebworth/
LOCATION:Knebworth House\, Herts\, United Kingdom
CATEGORIES:General Event
END:VEVENT
BEGIN:VEVENT
DTSTART;VALUE=DATE:20250718
DTEND;VALUE=DATE:20250721
DTSTAMP:20260421T184658
CREATED:20250530T103232Z
LAST-MODIFIED:20250530T103232Z
UID:28957-1752796800-1753055999@www.jellybeancreative.co.uk
SUMMARY:Foodies Festival Winchester
DESCRIPTION:
URL:https://www.jellybeancreative.co.uk/event/foodies-festival-winchester/
LOCATION:River Park\, Winchester\, United Kingdom
CATEGORIES:General Event
END:VEVENT
BEGIN:VEVENT
DTSTART;VALUE=DATE:20250718
DTEND;VALUE=DATE:20250720
DTSTAMP:20260421T184658
CREATED:20250610T144735Z
LAST-MODIFIED:20250610T144735Z
UID:29055-1752796800-1752969599@www.jellybeancreative.co.uk
SUMMARY:London Craft Beer Festival
DESCRIPTION:
URL:https://www.jellybeancreative.co.uk/event/london-craft-beer-festival/
LOCATION:Magazine London\, London\, United Kingdom
CATEGORIES:General Event
END:VEVENT
BEGIN:VEVENT
DTSTART;VALUE=DATE:20250716
DTEND;VALUE=DATE:20250719
DTSTAMP:20260421T184658
CREATED:20250611T101323Z
LAST-MODIFIED:20250611T101323Z
UID:29073-1752624000-1752883199@www.jellybeancreative.co.uk
SUMMARY:Grocery Aid Pedal the Peaks
DESCRIPTION:
URL:https://www.jellybeancreative.co.uk/event/grocery-aid-pedal-the-peaks/
LOCATION:Peak District National Park\, United Kingdom
CATEGORIES:General Event
END:VEVENT
BEGIN:VEVENT
DTSTART;VALUE=DATE:20250711
DTEND;VALUE=DATE:20250714
DTSTAMP:20260421T184658
CREATED:20250530T103123Z
LAST-MODIFIED:20250530T103123Z
UID:28955-1752192000-1752451199@www.jellybeancreative.co.uk
SUMMARY:Foodies Festival Tatton Park
DESCRIPTION:
URL:https://www.jellybeancreative.co.uk/event/foodies-festival-tatton-park/
LOCATION:Tatton Park\, Knutsford\, Cheshire\, United Kingdom
CATEGORIES:General Event
END:VEVENT
BEGIN:VEVENT
DTSTART;VALUE=DATE:20250705
DTEND;VALUE=DATE:20250707
DTSTAMP:20260421T184658
CREATED:20250530T113630Z
LAST-MODIFIED:20250530T113630Z
UID:28981-1751673600-1751846399@www.jellybeancreative.co.uk
SUMMARY:Great British Food Festival Danson Park
DESCRIPTION:
URL:https://www.jellybeancreative.co.uk/event/great-british-food-festival-danson-park/
LOCATION:Danson Park\, London\, United Kingdom
CATEGORIES:General Event
END:VEVENT
BEGIN:VEVENT
DTSTART;VALUE=DATE:20250704
DTEND;VALUE=DATE:20250707
DTSTAMP:20260421T184658
CREATED:20250530T103027Z
LAST-MODIFIED:20250530T103027Z
UID:28953-1751587200-1751846399@www.jellybeancreative.co.uk
SUMMARY:Foodies Festival Cambridge
DESCRIPTION:
URL:https://www.jellybeancreative.co.uk/event/foodies-festival-cambridge/
LOCATION:Parkers Piece\, Cambridge\, United Kingdom
CATEGORIES:General Event
END:VEVENT
BEGIN:VEVENT
DTSTART;VALUE=DATE:20250703
DTEND;VALUE=DATE:20250704
DTSTAMP:20260421T184658
CREATED:20250530T133428Z
LAST-MODIFIED:20250530T133428Z
UID:29004-1751500800-1751587199@www.jellybeancreative.co.uk
SUMMARY:Grocer Aid Barcode Festival
DESCRIPTION:
URL:https://www.jellybeancreative.co.uk/event/grocer-aid-barcode-festival/
LOCATION:Kenwood\, United Kingdom
CATEGORIES:General Event
END:VEVENT
BEGIN:VEVENT
DTSTART;VALUE=DATE:20250703
DTEND;VALUE=DATE:20250704
DTSTAMP:20260421T184658
CREATED:20250220T160509Z
LAST-MODIFIED:20250220T160509Z
UID:28485-1751500800-1751587199@www.jellybeancreative.co.uk
SUMMARY:UK Hospitality Golf Day
DESCRIPTION:
URL:https://www.jellybeancreative.co.uk/event/uk-hospitality-golf-day-2/
LOCATION:Foxhills Club\, Ottershaw\, Surrey
CATEGORIES:General Event
END:VEVENT
BEGIN:VEVENT
DTSTART;VALUE=DATE:20250627
DTEND;VALUE=DATE:20250630
DTSTAMP:20260421T184658
CREATED:20250530T102922Z
LAST-MODIFIED:20250530T102922Z
UID:28950-1750982400-1751241599@www.jellybeancreative.co.uk
SUMMARY:Foodies Festival Wollaton Park
DESCRIPTION:
URL:https://www.jellybeancreative.co.uk/event/foodies-festival-wollaton-park/
LOCATION:Wollaton Park\, Nottingham\, United Kingdom
CATEGORIES:General Event
END:VEVENT
BEGIN:VEVENT
DTSTART;VALUE=DATE:20250625
DTEND;VALUE=DATE:20250626
DTSTAMP:20260421T184658
CREATED:20250611T101153Z
LAST-MODIFIED:20250611T101153Z
UID:29071-1750809600-1750895999@www.jellybeancreative.co.uk
SUMMARY:Grocery Aid Golf Day
DESCRIPTION:
URL:https://www.jellybeancreative.co.uk/event/grocery-aid-golf-day/
LOCATION:Woburn Golf Club\, Milton Keynes\, United Kingdom
CATEGORIES:General Event
END:VEVENT
BEGIN:VEVENT
DTSTART;VALUE=DATE:20250623
DTEND;VALUE=DATE:20250624
DTSTAMP:20260421T184658
CREATED:20250228T154242Z
LAST-MODIFIED:20250228T154242Z
UID:28583-1750636800-1750723199@www.jellybeancreative.co.uk
SUMMARY:HA Summer Cycle Challenge
DESCRIPTION:
URL:https://www.jellybeancreative.co.uk/event/ha-summer-cycle-challenge/
LOCATION:Lainston House\, Winchester\, United Kingdom
CATEGORIES:General Event
END:VEVENT
BEGIN:VEVENT
DTSTART;VALUE=DATE:20250621
DTEND;VALUE=DATE:20250623
DTSTAMP:20260421T184658
CREATED:20250530T113511Z
LAST-MODIFIED:20250530T113511Z
UID:28979-1750464000-1750636799@www.jellybeancreative.co.uk
SUMMARY:Great British Food Festival Dinton Pastures
DESCRIPTION:
URL:https://www.jellybeancreative.co.uk/event/great-british-food-festival-dinton-pastures/
LOCATION:Dinton Pastures\, Berkshire\, United Kingdom
CATEGORIES:General Event
END:VEVENT
BEGIN:VEVENT
DTSTART;VALUE=DATE:20250620
DTEND;VALUE=DATE:20250623
DTSTAMP:20260421T184658
CREATED:20250530T102748Z
LAST-MODIFIED:20250530T102748Z
UID:28948-1750377600-1750636799@www.jellybeancreative.co.uk
SUMMARY:Foodies Festival Chelmsford
DESCRIPTION:
URL:https://www.jellybeancreative.co.uk/event/foodies-festival-chelmsford/
LOCATION:Hylands Park\, Chelmsford
CATEGORIES:General Event
END:VEVENT
BEGIN:VEVENT
DTSTART;VALUE=DATE:20250619
DTEND;VALUE=DATE:20250620
DTSTAMP:20260421T184658
CREATED:20250611T100815Z
LAST-MODIFIED:20250611T100815Z
UID:29068-1750291200-1750377599@www.jellybeancreative.co.uk
SUMMARY:Future Network Mixed Touch Rugby Tournament
DESCRIPTION:
URL:https://www.jellybeancreative.co.uk/event/future-network-mixed-touch-rugby-tournament/
LOCATION:Wasps FC\, London\, United Kingdom
CATEGORIES:General Event
END:VEVENT
BEGIN:VEVENT
DTSTART;VALUE=DATE:20250618
DTEND;VALUE=DATE:20250623
DTSTAMP:20260421T184658
CREATED:20250530T112142Z
LAST-MODIFIED:20250530T112142Z
UID:28974-1750204800-1750636799@www.jellybeancreative.co.uk
SUMMARY:Taste of London Festival
DESCRIPTION:
URL:https://www.jellybeancreative.co.uk/event/taste-of-london-festival/
LOCATION:Regent’s Park\, London\, United Kingdom
CATEGORIES:General Event
END:VEVENT
BEGIN:VEVENT
DTSTART;VALUE=DATE:20250617
DTEND;VALUE=DATE:20250618
DTSTAMP:20260421T184658
CREATED:20241114T104700Z
LAST-MODIFIED:20241114T104700Z
UID:27853-1750118400-1750204799@www.jellybeancreative.co.uk
SUMMARY:BII Summer Event
DESCRIPTION:
URL:https://www.jellybeancreative.co.uk/event/bii-summer-event/
LOCATION:Artillery Garden at HAC\, London\, United Kingdom
CATEGORIES:General Event
END:VEVENT
BEGIN:VEVENT
DTSTART;VALUE=DATE:20250614
DTEND;VALUE=DATE:20250616
DTSTAMP:20260421T184658
CREATED:20250530T113356Z
LAST-MODIFIED:20250530T113356Z
UID:28976-1749859200-1750031999@www.jellybeancreative.co.uk
SUMMARY:Great British Food Festival Holdenby House
DESCRIPTION:
URL:https://www.jellybeancreative.co.uk/event/great-british-food-festival-holdenby-house/
LOCATION:Holdenby House\, Northants
CATEGORIES:General Event
END:VEVENT
BEGIN:VEVENT
DTSTART;VALUE=DATE:20250612
DTEND;VALUE=DATE:20250616
DTSTAMP:20260421T184658
CREATED:20250530T111814Z
LAST-MODIFIED:20250530T111814Z
UID:28970-1749686400-1750031999@www.jellybeancreative.co.uk
SUMMARY:BBC Good Food Summer Show
DESCRIPTION:
URL:https://www.jellybeancreative.co.uk/event/bbc-good-food-summer-show/
LOCATION:NEC\, Birmingham\, United Kingdom
CATEGORIES:General Event
END:VEVENT
BEGIN:VEVENT
DTSTART;VALUE=DATE:20250606
DTEND;VALUE=DATE:20250609
DTSTAMP:20260421T184658
CREATED:20250530T102638Z
LAST-MODIFIED:20250530T102638Z
UID:28946-1749168000-1749427199@www.jellybeancreative.co.uk
SUMMARY:Foodies Festival Guildford
DESCRIPTION:
URL:https://www.jellybeancreative.co.uk/event/foodies-festival-guildford-2/
LOCATION:Stoke Park Guildford
CATEGORIES:General Event
END:VEVENT
BEGIN:VEVENT
DTSTART;VALUE=DATE:20250601
DTEND;VALUE=DATE:20250602
DTSTAMP:20260421T184658
CREATED:20250228T154111Z
LAST-MODIFIED:20250228T154111Z
UID:28581-1748736000-1748822399@www.jellybeancreative.co.uk
SUMMARY:HA South West Polo Day
DESCRIPTION:
URL:https://www.jellybeancreative.co.uk/event/ha-south-west-polo-day-2/
LOCATION:Beaufort Polo Club\, Gloucestershire\, United Kingdom
CATEGORIES:General Event
END:VEVENT
BEGIN:VEVENT
DTSTART;VALUE=DATE:20250529
DTEND;VALUE=DATE:20250601
DTSTAMP:20260421T184658
CREATED:20250313T154219Z
LAST-MODIFIED:20250313T154219Z
UID:28658-1748476800-1748735999@www.jellybeancreative.co.uk
SUMMARY:Royal Bath & West Show
DESCRIPTION:
URL:https://www.jellybeancreative.co.uk/event/royal-bath-west-show/
LOCATION:Bath & West Showground\, United Kingdom
CATEGORIES:General Event
END:VEVENT
BEGIN:VEVENT
DTSTART;TZID=Europe/London:20250528T183000
DTEND;TZID=Europe/London:20250528T230000
DTSTAMP:20260421T184658
CREATED:20250228T153937Z
LAST-MODIFIED:20250228T153951Z
UID:28578-1748457000-1748473200@www.jellybeancreative.co.uk
SUMMARY:HA - Bike to Care Chefs' Dinner
DESCRIPTION:
URL:https://www.jellybeancreative.co.uk/event/bike-to-care-chefs-dinner/
LOCATION:Nobu Hotel\, London
CATEGORIES:General Event
END:VEVENT
BEGIN:VEVENT
DTSTART;VALUE=DATE:20250515
DTEND;VALUE=DATE:20250516
DTSTAMP:20260421T184658
CREATED:20241114T122815Z
LAST-MODIFIED:20241114T122815Z
UID:27867-1747267200-1747353599@www.jellybeancreative.co.uk
SUMMARY:Waitrose & Partners Garden Party
DESCRIPTION:
URL:https://www.jellybeancreative.co.uk/event/waitrose-partners-garden-party/
LOCATION:Henley-on-Thames\, United Kingdom
CATEGORIES:General Event
END:VEVENT
BEGIN:VEVENT
DTSTART;VALUE=DATE:20250510
DTEND;VALUE=DATE:20250513
DTSTAMP:20260421T184658
CREATED:20250228T154620Z
LAST-MODIFIED:20250228T154620Z
UID:28586-1746835200-1747094399@www.jellybeancreative.co.uk
SUMMARY:Springboard Three Peaks Challenge
DESCRIPTION:
URL:https://www.jellybeancreative.co.uk/event/springboard-three-peaks-challenge/
CATEGORIES:General Event
END:VEVENT
BEGIN:VEVENT
DTSTART;VALUE=DATE:20250508
DTEND;VALUE=DATE:20250509
DTSTAMP:20260421T184658
CREATED:20250220T151707Z
LAST-MODIFIED:20250220T151707Z
UID:28464-1746662400-1746748799@www.jellybeancreative.co.uk
SUMMARY:Foodservice Football Charity Match
DESCRIPTION:
URL:https://www.jellybeancreative.co.uk/event/foodservice-football-charity-match/
LOCATION:Cray Wanderers FC\, Chislehurst
CATEGORIES:General Event
END:VEVENT
END:VCALENDAR