BEGIN:VCALENDAR
VERSION:2.0
PRODID:-//Jellybean Creative Solutions - ECPv6.15.20//NONSGML v1.0//EN
CALSCALE:GREGORIAN
METHOD:PUBLISH
X-WR-CALNAME:Jellybean Creative Solutions
X-ORIGINAL-URL:https://www.jellybeancreative.co.uk
X-WR-CALDESC:Events for Jellybean Creative Solutions
REFRESH-INTERVAL;VALUE=DURATION:PT1H
X-Robots-Tag:noindex
X-PUBLISHED-TTL:PT1H
BEGIN:VTIMEZONE
TZID:Europe/London
BEGIN:DAYLIGHT
TZOFFSETFROM:+0000
TZOFFSETTO:+0100
TZNAME:BST
DTSTART:20250330T010000
END:DAYLIGHT
BEGIN:STANDARD
TZOFFSETFROM:+0100
TZOFFSETTO:+0000
TZNAME:GMT
DTSTART:20251026T010000
END:STANDARD
BEGIN:DAYLIGHT
TZOFFSETFROM:+0000
TZOFFSETTO:+0100
TZNAME:BST
DTSTART:20260329T010000
END:DAYLIGHT
BEGIN:STANDARD
TZOFFSETFROM:+0100
TZOFFSETTO:+0000
TZNAME:GMT
DTSTART:20261025T010000
END:STANDARD
BEGIN:DAYLIGHT
TZOFFSETFROM:+0000
TZOFFSETTO:+0100
TZNAME:BST
DTSTART:20270328T010000
END:DAYLIGHT
BEGIN:STANDARD
TZOFFSETFROM:+0100
TZOFFSETTO:+0000
TZNAME:GMT
DTSTART:20271031T010000
END:STANDARD
END:VTIMEZONE
BEGIN:VEVENT
DTSTART;VALUE=DATE:20260422
DTEND;VALUE=DATE:20260423
DTSTAMP:20260422T020258
CREATED:20251028T142042Z
LAST-MODIFIED:20251028T142042Z
UID:29947-1776816000-1776902399@www.jellybeancreative.co.uk
SUMMARY:National Jellybean Day
DESCRIPTION:
URL:https://www.jellybeancreative.co.uk/event/national-jellybean-day-2/
CATEGORIES:National Day / Week
END:VEVENT
BEGIN:VEVENT
DTSTART;VALUE=DATE:20260422
DTEND;VALUE=DATE:20260423
DTSTAMP:20260422T020258
CREATED:20251028T142112Z
LAST-MODIFIED:20251028T142112Z
UID:29949-1776816000-1776902399@www.jellybeancreative.co.uk
SUMMARY:Earth Day
DESCRIPTION:
URL:https://www.jellybeancreative.co.uk/event/earth-day/
CATEGORIES:National Day / Week
END:VEVENT
BEGIN:VEVENT
DTSTART;VALUE=DATE:20260422
DTEND;VALUE=DATE:20260429
DTSTAMP:20260422T020258
CREATED:20251028T142004Z
LAST-MODIFIED:20251028T142004Z
UID:29944-1776816000-1777420799@www.jellybeancreative.co.uk
SUMMARY:UK Allergy Awareness Week
DESCRIPTION:
URL:https://www.jellybeancreative.co.uk/event/uk-allergy-awareness-week/
CATEGORIES:National Day / Week
END:VEVENT
END:VCALENDAR