BEGIN:VCALENDAR
VERSION:2.0
PRODID:-//Jellybean Creative Solutions - ECPv6.15.20//NONSGML v1.0//EN
CALSCALE:GREGORIAN
METHOD:PUBLISH
X-ORIGINAL-URL:https://www.jellybeancreative.co.uk
X-WR-CALDESC:Events for Jellybean Creative Solutions
REFRESH-INTERVAL;VALUE=DURATION:PT1H
X-Robots-Tag:noindex
X-PUBLISHED-TTL:PT1H
BEGIN:VTIMEZONE
TZID:Europe/London
BEGIN:DAYLIGHT
TZOFFSETFROM:+0000
TZOFFSETTO:+0100
TZNAME:BST
DTSTART:20240331T010000
END:DAYLIGHT
BEGIN:STANDARD
TZOFFSETFROM:+0100
TZOFFSETTO:+0000
TZNAME:GMT
DTSTART:20241027T010000
END:STANDARD
BEGIN:DAYLIGHT
TZOFFSETFROM:+0000
TZOFFSETTO:+0100
TZNAME:BST
DTSTART:20250330T010000
END:DAYLIGHT
BEGIN:STANDARD
TZOFFSETFROM:+0100
TZOFFSETTO:+0000
TZNAME:GMT
DTSTART:20251026T010000
END:STANDARD
BEGIN:DAYLIGHT
TZOFFSETFROM:+0000
TZOFFSETTO:+0100
TZNAME:BST
DTSTART:20260329T010000
END:DAYLIGHT
BEGIN:STANDARD
TZOFFSETFROM:+0100
TZOFFSETTO:+0000
TZNAME:GMT
DTSTART:20261025T010000
END:STANDARD
END:VTIMEZONE
BEGIN:VEVENT
DTSTART;TZID=Europe/London:20251027T183000
DTEND;TZID=Europe/London:20251027T233000
DTSTAMP:20260420T171912
CREATED:20250813T101045Z
LAST-MODIFIED:20250813T101045Z
UID:29309-1761589800-1761607800@www.jellybeancreative.co.uk
SUMMARY:HA Winter Chefs' Dinner
DESCRIPTION:
URL:https://www.jellybeancreative.co.uk/event/ha-winter-chefs-dinner-2/
LOCATION:The Chancery Rosewood\, London\, United Kingdom
CATEGORIES:General Event
END:VEVENT
END:VCALENDAR