BEGIN:VCALENDAR
VERSION:2.0
PRODID:-//Jellybean Creative Solutions - ECPv6.15.20//NONSGML v1.0//EN
CALSCALE:GREGORIAN
METHOD:PUBLISH
X-ORIGINAL-URL:https://www.jellybeancreative.co.uk
X-WR-CALDESC:Events for Jellybean Creative Solutions
REFRESH-INTERVAL;VALUE=DURATION:PT1H
X-Robots-Tag:noindex
X-PUBLISHED-TTL:PT1H
BEGIN:VTIMEZONE
TZID:Europe/London
BEGIN:DAYLIGHT
TZOFFSETFROM:+0000
TZOFFSETTO:+0100
TZNAME:BST
DTSTART:20240331T010000
END:DAYLIGHT
BEGIN:STANDARD
TZOFFSETFROM:+0100
TZOFFSETTO:+0000
TZNAME:GMT
DTSTART:20241027T010000
END:STANDARD
BEGIN:DAYLIGHT
TZOFFSETFROM:+0000
TZOFFSETTO:+0100
TZNAME:BST
DTSTART:20250330T010000
END:DAYLIGHT
BEGIN:STANDARD
TZOFFSETFROM:+0100
TZOFFSETTO:+0000
TZNAME:GMT
DTSTART:20251026T010000
END:STANDARD
BEGIN:DAYLIGHT
TZOFFSETFROM:+0000
TZOFFSETTO:+0100
TZNAME:BST
DTSTART:20260329T010000
END:DAYLIGHT
BEGIN:STANDARD
TZOFFSETFROM:+0100
TZOFFSETTO:+0000
TZNAME:GMT
DTSTART:20261025T010000
END:STANDARD
END:VTIMEZONE
BEGIN:VEVENT
DTSTART;VALUE=DATE:20250918
DTEND;VALUE=DATE:20250919
DTSTAMP:20260420T155908
CREATED:20250813T114351Z
LAST-MODIFIED:20250813T114351Z
UID:29330-1758153600-1758239999@www.jellybeancreative.co.uk
SUMMARY:Drinks Sustainability Awards 2025
DESCRIPTION:
URL:https://www.jellybeancreative.co.uk/event/drinks-sustainability-awards-2025/
LOCATION:OXO Tower\, London\, United Kingdom
CATEGORIES:Awards / Dinners
END:VEVENT
BEGIN:VEVENT
DTSTART;TZID=Europe/London:20250918T080000
DTEND;TZID=Europe/London:20250918T160000
DTSTAMP:20260420T155908
CREATED:20250812T150758Z
LAST-MODIFIED:20250812T150758Z
UID:29274-1758182400-1758211200@www.jellybeancreative.co.uk
SUMMARY:IGD: Co-op Trade Briefing
DESCRIPTION:
URL:https://www.jellybeancreative.co.uk/event/igd-co-op-trade-briefing/
LOCATION:Etihad Campus\, Manchester\, United Kingdom
CATEGORIES:Exhibitions and Conferences
END:VEVENT
END:VCALENDAR