BEGIN:VCALENDAR
VERSION:2.0
PRODID:-//Jellybean Creative Solutions - ECPv6.15.20//NONSGML v1.0//EN
CALSCALE:GREGORIAN
METHOD:PUBLISH
X-ORIGINAL-URL:https://www.jellybeancreative.co.uk
X-WR-CALDESC:Events for Jellybean Creative Solutions
REFRESH-INTERVAL;VALUE=DURATION:PT1H
X-Robots-Tag:noindex
X-PUBLISHED-TTL:PT1H
BEGIN:VTIMEZONE
TZID:Europe/London
BEGIN:DAYLIGHT
TZOFFSETFROM:+0000
TZOFFSETTO:+0100
TZNAME:BST
DTSTART:20240331T010000
END:DAYLIGHT
BEGIN:STANDARD
TZOFFSETFROM:+0100
TZOFFSETTO:+0000
TZNAME:GMT
DTSTART:20241027T010000
END:STANDARD
BEGIN:DAYLIGHT
TZOFFSETFROM:+0000
TZOFFSETTO:+0100
TZNAME:BST
DTSTART:20250330T010000
END:DAYLIGHT
BEGIN:STANDARD
TZOFFSETFROM:+0100
TZOFFSETTO:+0000
TZNAME:GMT
DTSTART:20251026T010000
END:STANDARD
BEGIN:DAYLIGHT
TZOFFSETFROM:+0000
TZOFFSETTO:+0100
TZNAME:BST
DTSTART:20260329T010000
END:DAYLIGHT
BEGIN:STANDARD
TZOFFSETFROM:+0100
TZOFFSETTO:+0000
TZNAME:GMT
DTSTART:20261025T010000
END:STANDARD
END:VTIMEZONE
BEGIN:VEVENT
DTSTART;VALUE=DATE:20250912
DTEND;VALUE=DATE:20250915
DTSTAMP:20260420T155410
CREATED:20250813T101213Z
LAST-MODIFIED:20250813T101213Z
UID:29312-1757635200-1757894399@www.jellybeancreative.co.uk
SUMMARY:HA Cycle Ride Champagne to Canterbury
DESCRIPTION:
URL:https://www.jellybeancreative.co.uk/event/ha-cycle-ride-champagne-to-canterbury/
CATEGORIES:General Event
END:VEVENT
BEGIN:VEVENT
DTSTART;VALUE=DATE:20250913
DTEND;VALUE=DATE:20250914
DTSTAMP:20260420T155410
CREATED:20250813T150245Z
LAST-MODIFIED:20250813T150245Z
UID:29360-1757721600-1757807999@www.jellybeancreative.co.uk
SUMMARY:Global Cheese Awards 2025
DESCRIPTION:
URL:https://www.jellybeancreative.co.uk/event/global-cheese-awards-2025/
LOCATION:West Woodlands Showground\, Frome\, United Kingdom
CATEGORIES:Competition
END:VEVENT
END:VCALENDAR